BEGIN:VCALENDAR
VERSION:2.0
PRODID:-//YourOrganization//EventDownload//DE
CALSCALE:GREGORIAN
METHOD:PUBLISH
BEGIN:VEVENT
UID:69e4c8a815fd9@leapup.bitshifters.cloud
DTSTAMP:20260419T142056Z
DTSTART:20250910T170000Z
DTEND:20250910T220000Z
SUMMARY:3D-Druck Stammtisch: Medizintechnik
DESCRIPTION:Beim 3D-Druck Stammtisch im September beschäftigen wir uns mit dem spannenden Einsatzbereich der Additiven Fertigung in der Medizintechnik. Impulsgeber ist heute Robert Möbius. Er ist Medizintechnik-Ingenieur\, Gastwissenschaftler an der Universitätsklinik Leipzig und seit 3 Jahren Laborleiter beim Biotechnologie- und Medizintechnik-Verband biosaxony/leap:up. Dort betreut er insbesondere internationale Medtech Startups im Rahmen des Leipziger Startup Accelerators medical:forge. Einer seiner Schwerpunkte liegt auf der Entwicklung von Medizinischen 3D-Druck-Erzeugnissen\, insbesondere für die patientenindividuelle Versorgung. Klingt spannend? Das ist spannend! Melden Sie sich an und diskutieren Sie mit.\n📅 Wann? Mittwoch\, 10. September 2025 um 17:00 Uhr📍 Wo? Bayerischer Bahnhof (Bayrischer Pl. 1\, 04107 Leipzig)\nHier zur Anmeldung
LOCATION:Gasthaus Bayrischer Bahnhof\, Bayrischer Pl. 1\, 04107 Leipzig
END:VEVENT
END:VCALENDAR
