BEGIN:VCALENDAR
VERSION:2.0
PRODID:-//YourOrganization//EventDownload//DE
CALSCALE:GREGORIAN
METHOD:PUBLISH
BEGIN:VEVENT
UID:69e517b60d205@leapup.bitshifters.cloud
DTSTAMP:20260419T195814Z
DTSTART:20241009T133000Z
DTEND:20241009T180000Z
SUMMARY:3D-Stammtisch by MEDICAL FORGE LEIPZIG
DESCRIPTION:Innovation in MedTech und LifeScience durch additive Fertigungsmethoden\nErlebe das Event\, das f&uuml\;hrende Experten des medizinischen 3D-Drucks an einen Tisch bringt! Tausche dich offen &uuml\;ber Erfolge\, Herausforderungen und die neuesten Innovationen aus.&nbsp\;Sei dabei und gestalte die Zukunft mit!\nDarum musst du dabei sein:\n\nZukunft hautnah erleben\nExklusiver Austausch auf Augenh&ouml\;he\nInnovation dirket ausprobieren\n\nJetzt kostenfrei anmelden!
LOCATION:MEDICAL FORGE Leipzig (BIO CITY)\, Deutscher Platz 5c\, 04103 Leipzig
END:VEVENT
END:VCALENDAR
