BEGIN:VCALENDAR
VERSION:2.0
PRODID:-//YourOrganization//EventDownload//DE
CALSCALE:GREGORIAN
METHOD:PUBLISH
BEGIN:VEVENT
UID:69e6dfffba59c@leapup.bitshifters.cloud
DTSTAMP:20260421T042503Z
DTSTART:20140513T000000Z
DTEND:20140513T000000Z
SUMMARY:3rd European Life Science Awards
DESCRIPTION:The 3rd European Life Science Awards will be held in Barcelona to celebrate the very best of the industry's achievements. The awards ceremony will take place during the opening reception evening for European Lab Automation on the evening of 13th May 2014. Please nominate yourself\, your company or your research group as soon as possible.
END:VEVENT
END:VCALENDAR
