BEGIN:VCALENDAR
VERSION:2.0
PRODID:-//YourOrganization//EventDownload//DE
CALSCALE:GREGORIAN
METHOD:PUBLISH
BEGIN:VEVENT
UID:69e580d413e70@leapup.bitshifters.cloud
DTSTAMP:20260420T032644Z
DTSTART:20220926T000000Z
DTEND:20220928T000000Z
SUMMARY:4. Bioökonomiekongress Baden-Württemberg 
DESCRIPTION:Es erwartet Sie ein dreit&auml\;giges Programm\, bestehend aus interessanten Vortr&auml\;gen und Diskussionsrunden mit Expertinnen und Experten aus Politik\, Wissenschaft und Praxis. Ein Rahmenprogramm mit Exkursionen und Workshops bietet weitere Einblicke in die baden-w&uuml\;rttembergische Bio&ouml\;konomie und Gelegenheit zum vertieften Austausch.\nDie Themenschwerpunkte auf einen Blick:\n\nBio&ouml\;konomie\, Landnutzung und Klimaschutz - politische Anreize f&uuml\;r eine klimaneutrale Wirtschafts- und Lebensweise\nBeitr&auml\;ge der Bio&ouml\;konomie zur &bdquo\;Farm-to-Fork-Strategie&ldquo\; - von der Innovation in die Praxis\nWelche Beitr&auml\;ge k&ouml\;nnen Bio&ouml\;konomieregionen zur Umsetzung der Ziele des European Green Deal leisten?\nBio&ouml\;konomie Highlights aus Baden-W&uuml\;rttemberg\n\nDie Teilnahme ist kostenfrei. Aufgrund begrenzter Pl&auml\;tze ist eine Anmeldung erforderlich.\nMehr Informationen zum Programm\, Anmeldung und Anreise unter: https://biooekonomie.baden-wuerttemberg.de/kongress\n&nbsp\;
END:VEVENT
END:VCALENDAR
