BEGIN:VCALENDAR
VERSION:2.0
PRODID:-//YourOrganization//EventDownload//DE
CALSCALE:GREGORIAN
METHOD:PUBLISH
BEGIN:VEVENT
UID:69e512ef0e0a3@leapup.bitshifters.cloud
DTSTAMP:20260419T193751Z
DTSTART:20250515T083000Z
DTEND:20250516T180000Z
SUMMARY:4. ICPO-Forum für Theranositcs in der Präzisionsonkologie
DESCRIPTION:40 internationale Experten pr&auml\;sentieren die die globale Entwicklung der Theranostik\, Fortschritte in der Ausbildung\, Durchbr&uuml\;che bei neuen Radiopharmazeutika\, praktische Erfahrungen aus Europa\, Australien\, Asien\, S&uuml\;dafrika\, Lateinamerika und den USA sowie die Einf&uuml\;hrung von KI als R&uuml\;ckgrat f&uuml\;r Theranostik-Zentren weltweit in zahlreichen Vortr&auml\;gen und spannenden Podiumsdiskussionen.\nWeitere Sessions &uuml\;ber kritische\, bisher ungedeckte Bed&uuml\;rfnisse bei der Behandlung von Krebserkrankungen bei Frauen bis hin zu einer Patienten-Session runden das Programm ab. Die abschließende Podiumsdiskussion zum Thema &bdquo\;Welche Synergien werden im Bereich der Theranostik ben&ouml\;tigt?&ldquo\;\, wird von Prof. Richard P. Baum\, Pionier der Radiotheranostik\, moderiert.\nEs werden &uuml\;ber 200 TeilnehmerInnen aus Europa\, Indien\, China\, dem Nahen Osten\, den USA\, Kanada und anderen L&auml\;ndern der Welt erwartet\, w&auml\;hrend mehr als 20 Sponsoren aus der Industrie die Veranstaltung unterst&uuml\;tzen\, darunter Siemens Healthineers\, GE Healthcare\, ITM\, Telix\, Medico\, Novartis und viele andere. (Sponsor-Link)\nIm Rahmen des zweit&auml\;gigen Kongresses haben Sie die M&ouml\;glichkeit\, sich mit vielen international renommierten Experten auszutauschen\, wie Cathy Cutler (USA)\, Rod Hicks (Australien)\, Stephanie Combs (Deutschland)\, Akram El Ibraheem (Jordanien)\, Mike Sathekge (S&uuml\;dafrika)\, Andrew Scott (Australien)\, Ken Herrmann (Deutschland)\, Frederik Giesel (Deutschland)\, D&eacute\;sir&eacute\;e Deandreis (Frankreich)\, Wolfgang Weber (Deutschland)\, Thomas Beyer (&Ouml\;sterreich) und Josh Mailman (USA).\nMelden Sie sich jetzt an!\nSollten Sie an einer Patenschaft interessiert sein\, finden Sie hier alle Details.
LOCATION:Science Congress Center Munich\, Walter-von-Dyck-Straße 10\, 85748 Garching 
END:VEVENT
END:VCALENDAR
