BEGIN:VCALENDAR
VERSION:2.0
PRODID:-//YourOrganization//EventDownload//DE
CALSCALE:GREGORIAN
METHOD:PUBLISH
BEGIN:VEVENT
UID:69e56636efc5c@leapup.bitshifters.cloud
DTSTAMP:20260420T013310Z
DTSTART:20230127T084500Z
DTEND:20230127T123000Z
SUMMARY:4. Kompetenzbörse des Managerinnen-Netzwerks
DESCRIPTION:\n\n\n\nZum vierten Mal stellen Frauen aus unterschiedlichsten Positionen in den Life Sciences ihre Kompetenzen\, Kooperationsangebote und Gesuche vor. Gleichzeitig bietet dieses au&szlig\;erordentlich erfolgreiche Format Neueinsteigerinnen und Interessentinnen die M&ouml\;glichkeit\, einmal in das Netzwerk "hineinzuschnuppern".\nJetzt anmelden!\n\n\n\n
END:VEVENT
END:VCALENDAR
