BEGIN:VCALENDAR
VERSION:2.0
PRODID:-//YourOrganization//EventDownload//DE
CALSCALE:GREGORIAN
METHOD:PUBLISH
BEGIN:VEVENT
UID:69e6f6972d119@leapup.bitshifters.cloud
DTSTAMP:20260421T060127Z
DTSTART:20130912T000000Z
DTEND:20130913T000000Z
SUMMARY:4. Kongress Industrielle Zelltechnik
DESCRIPTION:Neben wissenschaftlichen Highlights an der Schnittstelle von Medizin\, Biotechnologie und Ingenieurwesen werden sowohl innovative Technologien im Zellhandling als auch Entwicklungen in der Implantatbiologisierung vorgestellt. Die Industrielle Zelltechnik wird zudem durch die Ausstellung pr&auml\;sentiert: Direkt im Vortragssaal zeigen Unternehmen und Einrichtungen aktuelle Trends\, innovative Produkte und neue Technologien! Ein weiterer Vorteil ist die M&ouml\;glichkeit zur direkten Kontaktaufnahme und zur Erweiterung des Netzwerkes. Um dar&uuml\;ber hinaus Kooperationen zu f&ouml\;rdern\, sind auch die Mitarbeiter aus Forschung &amp\; Entwicklung herzlich eingeladen\, am Kongress Industrielle Zelltechnik teilzunehmen.
END:VEVENT
END:VCALENDAR
