BEGIN:VCALENDAR
VERSION:2.0
PRODID:-//YourOrganization//EventDownload//DE
CALSCALE:GREGORIAN
METHOD:PUBLISH
BEGIN:VEVENT
UID:69e813dda7569@leapup.bitshifters.cloud
DTSTAMP:20260422T021837Z
DTSTART:20140924T170000Z
DTEND:20140924T200000Z
SUMMARY:44. Stammtisch Life Science
DESCRIPTION:Kits sind aus der Laborlandschaft nicht mehr wegzudenken.\nDas Leipziger Biotech-Unternehmen pluriSelect Life Science UG (haftbesch.) &amp\; Co. KG produziert und vertreibt Zellseparationssysteme f&uuml\;r die wissenschaftliche Forschung und geh&ouml\;rt mit seiner Technologie zu den ersten Preistr&auml\;gern der Gr&uuml\;ndungsoffensive GO-Bio.\nDer Gesch&auml\;ftsf&uuml\;hrer von pluriSelect\, Herr Dr. Jan-Michael Heinrich gibt im 1. Teil der Veranstaltung einen &Uuml\;berblick zum Produktportfolio unter dem Titel &bdquo\;Isolation von Zellen\, Proteinen leicht gemacht&ldquo\;.\nNeben der Herstellung von Kits sind bei der Vermarktung wirkungsvolle Kommunikationsl&ouml\;sungen gefragt. Zu diesem Teil ist Dipl.-Ing. Jens Mangelsdorf\, Inhaber von &bdquo\;Mangelsdorf Produkt &amp\; Design&ldquo\; angefragt.\nIm 2. Teil der Veranstaltung wird Herr Andr&eacute\; Hofmann\, Gesch&auml\;ftsf&uuml\;hrer der biosaxony\, das europ&auml\;ische Gemeinschaftsprojekt &ndash\; C3-Saxony vorstellen.\nGemeinsam mit Partnern aus Wissenschaft\, Wirtschaft und Politik treibt das C3-Konsortium Inkubationsprojekte voran und unterst&uuml\;tzt damit vor allem Forschungs- und Entwicklungsprojekte kleiner und mittelst&auml\;ndiger Unternehmen.\nWeitere Informationen finden Sie im Einladungsflyer (pdf)\nDie Veranstaltung ist kostenfrei.\nUm vorherige Anmeldung per Fax (0341/26826630) oder Mail: ellinger@agil-leipzig.de wird gebeten.
END:VEVENT
END:VCALENDAR
