BEGIN:VCALENDAR
VERSION:2.0
PRODID:-//YourOrganization//EventDownload//DE
CALSCALE:GREGORIAN
METHOD:PUBLISH
BEGIN:VEVENT
UID:69e801189cdb9@leapup.bitshifters.cloud
DTSTAMP:20260422T005832Z
DTSTART:20150311T170000Z
DTEND:20150311T200000Z
SUMMARY:45. Stammtisch Life Science
DESCRIPTION:Die AGIL GmbH Leipzig und die BIO-NET LEIPZIG GmbH laden Sie recht herzlich\, gemeinsam mit den Netzwerkpartnern\, IHK Leipzig und biosaxony\, zum 45. Stammtisch Liefe Science in die BIO CITY LEIPZIG ein.\nThema:&bdquo\;Die neue Technologief&ouml\;rderung im Freistaat Sachsen und die neue Richtlinie des Zentralen Innovationsprogramms Mittelstand (ZIM)&ldquo\;\nTermin:&nbsp\;&nbsp\;&nbsp\;&nbsp\;&nbsp\;&nbsp\;&nbsp\;&nbsp\;&nbsp\;&nbsp\;&nbsp\;&nbsp\;&nbsp\;&nbsp\; Mittwoch\, 11. M&auml\;rz 2015\, ab 17:00 Uhr\nOrt:&nbsp\;&nbsp\;&nbsp\;&nbsp\;&nbsp\;&nbsp\;&nbsp\;&nbsp\;&nbsp\;&nbsp\;&nbsp\;&nbsp\;&nbsp\;&nbsp\;&nbsp\;&nbsp\;&nbsp\;&nbsp\;&nbsp\;&nbsp\;&nbsp\; Bistro BIO CITY LEIPZIG\, Deutscher Platz 5\, 04103 Leipzig\nHerrn Uwe Gerhardt von der SAB pr&auml\;sentiert die aktuellen F&ouml\;rderrichtlinien des Freistaates Sachsen.\nHerr G&uuml\;nther Fleck\, Gesch&auml\;ftsf&uuml\;hrer der AGIL GmbH Leipzig\, wird die neue Richtlinie des Zentralen Innovationsprogramm Mittelstand (ZIM) vorstellen.\nWeitere Informationen entnehmen Sie bitte dem verlinkten Flyer (s.u.).\nGern k&ouml\;nnen Sie die Einladung an potentielle Interessenten weiterleiten.&nbsp\;\nDie Veranstaltung ist kostenfrei. Um vorherige Anmeldung per Fax (0341/26826630) oder Mail: ellinger@agil-leipzig.de wird gebeten.
END:VEVENT
END:VCALENDAR
