BEGIN:VCALENDAR
VERSION:2.0
PRODID:-//YourOrganization//EventDownload//DE
CALSCALE:GREGORIAN
METHOD:PUBLISH
BEGIN:VEVENT
UID:69e7f873b01c6@leapup.bitshifters.cloud
DTSTAMP:20260422T002139Z
DTSTART:20150624T170000Z
DTEND:20150624T200000Z
SUMMARY:46. Stammtisch Life Sciences in Leipzig
DESCRIPTION:Die AGIL GmbH Leipzig und die BIO-NET LEIPZIG GmbH laden Sie recht herzlich\, gemeinsam mit den Netzwerkpartnern\, IHK Leipzig und biosaxony\, zum 46. Stammtisch Liefe Science in die BIO CITY LEIPZIG ein.\nThema:\n&bdquo\;F&uuml\;r Nachhaltigkeit und Bezahlbarkeit von medizinischer Versorgung - Das neue Netzwerk &bdquo\;RehaReform&ldquo\; mit klaren Zielen und Ideen&ldquo\;\nTermin: Mittwoch\, 24. Juni 2015\, ab 17:00 UhrOrt: Bistro BIO CITY LEIPZIG\, Deutscher Platz 5\, 04103 Leipzig\nHerr Matthias Jakob\, Techniker Krankenkasse\, Landesvertretung Sachsen\, Dresden wird zum Thema &bdquo\;Versorgungsmanagement &ndash\; Unterst&uuml\;tzung zur bedarfsgerechten Therapie referieren. Im Anschluss wird Herr G&uuml\;nther Fleck das ZIM-Kooperationsnetzwerk &bdquo\;RehaReform&ldquo\; &ndash\; zur&uuml\;ck ins Leben mit medizinischer und sportlicher Rehabilitation&ldquo\; vorstellen. Auch einige Partner des Netzwerkes werden sich im Rahmen der Veranstaltung pr&auml\;sentieren.\nWeitere Informationen entnehmen Sie bitte dem verlinkten Flyer.\nGern k&ouml\;nnen Sie die Einladung an potentielle Interessenten weiterleiten.\nDie Veranstaltung ist kostenfrei. Um vorherige Anmeldung per Fax (0341/26826630) oder Mail: ellinger@agil-leipzig.de wird gebeten.
END:VEVENT
END:VCALENDAR
