BEGIN:VCALENDAR
VERSION:2.0
PRODID:-//YourOrganization//EventDownload//DE
CALSCALE:GREGORIAN
METHOD:PUBLISH
BEGIN:VEVENT
UID:69e4f8badbd35@leapup.bitshifters.cloud
DTSTAMP:20260419T174602Z
DTSTART:20250409T130000Z
DTEND:20250410T133000Z
SUMMARY:48. ak-adp-Workshop am 09. und 10. April 2025 in Chemnitz
DESCRIPTION:Technologien haben &uuml\;blicherweise einen starken Anwendungsbezug und sind f&uuml\;r konkrete Applikationen favorisiert. Atmosph&auml\;rische Plasmen stehen dabei f&uuml\;r spezielle Oberfl&auml\;chenfunktionalisierungen und haben sich z.B. im Bereich Feinstreinigung\, Haftungsverbesserung\, Entkeimung und Nano-Beschichtung etabliert.\nDurch die Kombination von Technologien kann deren Anwendungsbereich signifikant erweitert werden. Beispiele f&uuml\;r die Kombination von atmosph&auml\;rischen Plasmen mit anderen Technologien werden auf dem 48. ak-adp-Workshop pr&auml\;sentiert und zur Diskussion gestellt.\nThematische Schwerpunkte der Vortr&auml\;ge liegen u.a. auf Reinigungs- und F&uuml\;geprozessen\, Anwendungen der AD-Plasmen f&uuml\;r Sterilisation\, Desinfektion und breite antimikrobielle Wirkung\, Gasbarriereschichten\, neuen Ans&auml\;tzen zur D&uuml\;nnschicht-PV-Herstellung sowie plasmagest&uuml\;tzten Oberfl&auml\;chenvorbehandlung von Alu-Druckgussbauteilen.\nNeben den technologischen Themen freuen wir uns\, dass wir das Thema &bdquo\;Atmosph&auml\;rendruckplasma und KI &ndash\; eine Symbiose f&uuml\;r die Zukunft!&ldquo\; noch einmal aufgreifen und damit an die lebhafte Diskussion im Rahmen des 43. ak-adp-Workshops im April 2023 ankn&uuml\;pfen k&ouml\;nnen.\nWeiteres Highlight des Workshops ist die Fortsetzung des Wettbewerbs #ZukunftADP. Nach den Ausschreibungen 2021 und 2023 sind wir gespannt\, welche kreativen\, innovativen und neuartigen Ideen bei der laufenden Ausschreibung bis zum 15.01.2025 eingereicht werden. Neben der Vorstellung und Pr&auml\;mierung der besten neuen Wettbewerbsideen gibt es aber auch einen Ausblick auf die Umsetzung der Ideen von 2021 und 2023.\nDas vollst&auml\;ndige Vortrags- und Diskussionsprogramm und weitere Informationen zur Veranstaltung sowie einen pers&ouml\;nlichen Kontakt finden Sie unter www.ak-adp.de inkl. online-Anmeldung.\nDer Workshop findet im Hotel Chemnitzer Hof im Zentrum von Chemnitz\, der Kulturhauptstadt Europas 2025\, statt. In Erg&auml\;nzung zu den Vortr&auml\;gen und Diskussionen sind alle Teilnehmer zu unserer Abendveranstaltung und dem etablierten Stammtisch mit vielf&auml\;ltigen M&ouml\;glichkeiten f&uuml\;r Informationsaustausch und Kontaktpflege eingeladen.\nWir freuen uns auf einen interaktiven und informativen Pr&auml\;senzworkshop mit lebhaften und breiten Diskussionen zu neuen Anwendungen atmosph&auml\;rischer Plasmen in Kombination mit anderen Technologien.\nArbeiten Sie mit atmosph&auml\;rischen Plasmen und m&ouml\;chten einen aktiven Beitrag zu einem der n&auml\;chsten ak-adp-Workshops leisten? Dann melden Sie sich gern unter info@ak-adp.de\nZur Agenda
LOCATION:Hotel Chemnitzer Hof \, Theaterplatz 4 \, 09111 Chemnitz
END:VEVENT
END:VCALENDAR
