BEGIN:VCALENDAR
VERSION:2.0
PRODID:-//YourOrganization//EventDownload//DE
CALSCALE:GREGORIAN
METHOD:PUBLISH
BEGIN:VEVENT
UID:69e6f6974efec@leapup.bitshifters.cloud
DTSTAMP:20260421T060127Z
DTSTART:20131204T000000Z
DTEND:20131206T000000Z
SUMMARY:4th BSRT SYMPOSIUM ON REGENERATIVE MEDICINE
DESCRIPTION:
END:VEVENT
END:VCALENDAR
