BEGIN:VCALENDAR
VERSION:2.0
PRODID:-//YourOrganization//EventDownload//DE
CALSCALE:GREGORIAN
METHOD:PUBLISH
BEGIN:VEVENT
UID:69e4f87bc449b@leapup.bitshifters.cloud
DTSTAMP:20260419T174459Z
DTSTART:20250826T170000Z
DTEND:20250826T200000Z
SUMMARY:5. KI Stammtisch Life Sciences 
DESCRIPTION:Wie verändert Künstliche Intelligenz die Life Sciences - von der Forschung über Diagnostik bis hin zur Produktion?\nBeim KI-Stammtisch Life Sciences treffen sich Fachleute aus Wissenschaft\, Wirtschaft und IT zum informellen Austausch über aktuelle Entwicklungen\, Herausforderungen und Chancen im Einsatz von KI in Life Sciences.\nWas Euch erwartet:\n\nImpulse aus der Praxis\nAustausch auf Augenhöhe\n\nDer Stammtisch richtet sich besonders an Teilnehmende unserer Fortbildung "KI-Guide im Unternehmen"\, ist aber offen für alle KI-Interessierten aus der Branche.
LOCATION:SpinLab (Halle 14)\, Spinnereistrasse 7\, 04103 Leipzig
END:VEVENT
END:VCALENDAR
