BEGIN:VCALENDAR
VERSION:2.0
PRODID:-//YourOrganization//EventDownload//DE
CALSCALE:GREGORIAN
METHOD:PUBLISH
BEGIN:VEVENT
UID:69e5dc6e8489a@leapup.bitshifters.cloud
DTSTAMP:20260420T095734Z
DTSTART:20200424T130000Z
DTEND:20200424T140000Z
SUMMARY:5. Live-Webkonferenz: Corona - Austausch über Herausforderungen für die Branche
DESCRIPTION:Um Sie in Zeiten von Corona/Covid-19 bestm&ouml\;glich zu unterst&uuml\;tzen\, organisiert biosaxony f&uuml\;r Sie regelm&auml\;&szlig\;ig einen interaktiven webbasierten Dialog und bietet Ihnen damit eine Plattform zum Austausch und zur Information.\nWir m&ouml\;chten Sie herzlich zur 5. Webkonferenz zum Thema Benutzung von Patenten und die Offenlegung von Normen zur Bek&auml\;mpfung der Corona-Pandemie einladen. Wir freuen uns\, Herrn Dr. Thomas Beyer\, Fachanwalt f&uuml\;r Gewerblichen Rechtsschutz der KPMG Law Rechtsanwaltsgesellschaft mbH begr&uuml\;&szlig\;en zu d&uuml\;rfen.\nDer Gesundheitsbereich steht im Fokus der Bek&auml\;mpfung der Corona-Krise. Vorhandene Ressourcen im Gesundheitsbereich sollen bei der Bek&auml\;mpfung der Corona-Pandemie genutzt werden. Das neue Infektionsschutzgesetz sieht zur Bek&auml\;mpfung von COVID-19 beispielsweise die Benutzung von Patenten in Bezug auf Arzneimittel\, Medizinprodukte\, Labordiagnostik\, Gegenst&auml\;nde der pers&ouml\;nlichen Schutzausr&uuml\;stung und Produkte zur Desinfektion vor. Ferner haben die europ&auml\;ischen Normungsorganisationen &ndash\; darunter DIN (Deutsches Institut f&uuml\;r Normung) &ndash\; eine Reihe von Europ&auml\;ischen Normen f&uuml\;r Medizinprodukte und pers&ouml\;nliche Schutzausr&uuml\;stung kostenlos zur Verf&uuml\;gung gestellt\, um die Bek&auml\;mpfung von COVID-19 zu unterst&uuml\;tzen. Im Rahmen unseres 5. Online-Seminar werfen wir einen Blick auf das neue Infektionsschutzgesetz\, die offengelegten Normen und die damit einhergehenden Folgen f&uuml\;r Unternehmen im Gesundheitsbereich.\nTermin: Freitag\, den 24. April 2020 // 13:00 &ndash\; 14:00 Uhr\nZugang per Computer\, Tablet oder Smartphone: https://global.gotomeeting.com/join/425208389\nSie k&ouml\;nnen sich auch &uuml\;ber ein Telefon einw&auml\;hlen: +49 721 6059 6510\nZugangscode:&nbsp\;425-208-389\nSie kennen GoToMeeting noch nicht? Installieren Sie jetzt die App\, damit Sie f&uuml\;r Ihr erstes Meeting bereit sind: https://global.gotomeeting.com/install/425208389\nWir freuen uns auf den Austausch mit Ihnen!
END:VEVENT
END:VCALENDAR
