BEGIN:VCALENDAR
VERSION:2.0
PRODID:-//YourOrganization//EventDownload//DE
CALSCALE:GREGORIAN
METHOD:PUBLISH
BEGIN:VEVENT
UID:69e7a39601845@leapup.bitshifters.cloud
DTSTAMP:20260421T181934Z
DTSTART:20170628T170000Z
DTEND:20170628T200000Z
SUMMARY:54. Stammtisch Life Science in Leipzig
DESCRIPTION:Die BIO-NET LEIPZIG GmbH und die AGIL GmbH Leipzig laden gemeinsam mit den Netzwerkpartnern IHK zu Leipzig und biosaxony zum 54. Stammtisch Life Science in die BIO CITY LEIPZIG ein.\nThema: Die neue Medizinprodukteverordnung\; Probleme und Hürden bei der Zertifizierung und Zulassung              \nTermin: Mittwoch\, 28. Juni 2017\, ab 17:00 Uhr\nOrt: Bistro BIO CITY\, Deutscher Platz 5\, 04103 Leipzig\nHerr Günther Fleck\, Geschäftsführer der AGIL GmbH Leipzig\, wird die Zulassungsbedingungen und Anforderungen der neuen Medizinprodukteverordnung vorstellen.\nDie Heppe Medical Chitosan GmbH ist nach ISO 9001:2015 und ISO 13485:2016 zertifiziert - die Geschäftsführerin Frau Katja Richter erläutert die Herausforderungen bei der Zertifizierung und Zulassung.\nHerr Tilo Pechan\, Geschäftsführer der Roland Pechan GmbH &amp\; Co. KG\, referiert über die Hürden bei der Zulassung eines Medizinproduktes.\nWeitere Informationen zur Veranstaltung entnehmen Sie bitte dem hier verlinkten Flyer.\nUm vorherige Anmeldung wird gebeten (ellinger@agil-leipzig.de\, Fax: 0341 / 2682 6630).\nDie Veranstaltung ist kostenfrei.
LOCATION:BIO CITY LEIPZIG\, Deutscher Platz 5\, 04103 Leipzig
END:VEVENT
END:VCALENDAR
