BEGIN:VCALENDAR
VERSION:2.0
PRODID:-//YourOrganization//EventDownload//DE
CALSCALE:GREGORIAN
METHOD:PUBLISH
BEGIN:VEVENT
UID:69e8f0281e2a8@leapup.bitshifters.cloud
DTSTAMP:20260422T175832Z
DTSTART:20170927T170000Z
DTEND:20170927T190000Z
SUMMARY:55. Stammtisch Life Science in Leipzig
DESCRIPTION:Mit der c-LEcta GmbH\, einem Unternehmen der weißen Biotechnologie\, dass sich hauptsächlich mit der Entwicklung von Enzymen für den industriellen Einsatz beschäftigt und der DOCYET UG\, einem Startup aus dem Bereich der Gesundheitswirtschaft\, das KI zur Unterstützung bei der Patientenberatung einsetzt\, präsentieren zwei Leipziger Unternehmen aus ganz unterschiedlichen Bereichen der Lebenswissenschaften den aktuellen praktischen Einsatz von moderner Informatik in ihrem Geschäftsfeld und zeigen die Potentiale für die Zukunft auf.\nDer Stammtisch Life Science ist eine Veranstaltungsreihe\, die gemeinsam von der AGIL GmbH Leipzig\, der BIO-NET LEIPZIG Technologietransfergesellschaft mbH\, der IHK zu Leipzig und biosaxony organisiert wird.\nDie Veranstaltung ist kostenfrei - um vorherige Anmeldung wird gebeten.\nWeitere Informationen haben wir für Sie hier verlinkt.
LOCATION:BIO CITY LEIPZIG\, Deutscher Platz 5\, 04103 Leipzig
END:VEVENT
END:VCALENDAR
