BEGIN:VCALENDAR
VERSION:2.0
PRODID:-//YourOrganization//EventDownload//DE
CALSCALE:GREGORIAN
METHOD:PUBLISH
BEGIN:VEVENT
UID:69e52a4b5bf9e@leapup.bitshifters.cloud
DTSTAMP:20260419T211731Z
DTSTART:20240430T093000Z
DTEND:20240430T170000Z
SUMMARY:6. Frühjahrstagung – Die Krankenversicherung im Wandel
DESCRIPTION:Inhalte\nPlattformen und &Ouml\;kosysteme von Krankenkassen - Die Zukunft der Gesundheitsversorgung\n\nGrundlagen von Plattformen und &Ouml\;kosystemen\nDigitale Plattformen in der Gesundheitsbranche\nK&uuml\;nstliche Intelligenz und Emotionen: K&uuml\;nstliche Empathie entwickeln\nZukunftsperspektiven und Trends\n\nZielgruppe\nFach und F&uuml\;hrungskr&auml\;fte aus gesetzlichen und privaten Krankenversicherungen u. a. aus den Bereichen Unternehmensentwicklung\, Unternehmensstrategie\, Organisation und Prozesse\, Digitalisierung\, Digitale Strategie\, Prozessmanagement\, Personalmanagement\, IT-Management\, Marketing\, Vertrieb und Produktmanagement. Weiterhin IT- und Unternehmensberatungen mit dem Schwerpunkt &bdquo\;Gesundheitswirtschaft&ldquo\;\, Professor/-innen und Lehrst&uuml\;hle des deutschsprachigen Raumes\, Studenten der Gesundheitswirtschaft\, Startups der Gesundheitsbranche sowie interessierte Akteure in der Gesundheitswirtschaft.\nWeitere Informationen und zur Anmeldung
LOCATION:Salles de Pologne Events & Konferenzen\, Konferenzetage — Hainstraße 16\, 04109 Leipzig
END:VEVENT
END:VCALENDAR
