BEGIN:VCALENDAR
VERSION:2.0
PRODID:-//YourOrganization//EventDownload//DE
CALSCALE:GREGORIAN
METHOD:PUBLISH
BEGIN:VEVENT
UID:69e69d2fe1e0e@leapup.bitshifters.cloud
DTSTAMP:20260420T233959Z
DTSTART:20150710T000000Z
DTEND:20150710T000000Z
SUMMARY:600 Jahre Universitätsmedizin Leipzig
DESCRIPTION:Im Jahr 2015 wird in Leipzig nicht nur der 1.000. Geburtstag dieser wunderbaren Stadt gefeiert\, sondern auch die Universit&auml\;t Leipzig begeht ein gro&szlig\;es Jubil&auml\;um.600 Jahre Universit&auml\;tsmedizin Leipzig bedeuten einen herausragenden Meilenstein in einer spannenden und wechselvollen Fakult&auml\;tsgeschichte. &bdquo\;Forschen\, Lehren\, Heilen &ndash\; aus Tradition f&uuml\;r Innovation&ldquo\; &ndash\; in diesem Sinne versteht sich der Auftrag\, medizinisches Wissen zu vermitteln\, zu erweitern und anzuwenden.Erfahren Sie alle Neuigkeiten zum Medizinjubil&auml\;um 2015 auf der folgenden Homepage: www.medizinjubilaeum2015.de. Ansprechpartner f&uuml\;r Inhalt und Gestaltung:Medizinische Fakult&auml\;t der Universit&auml\;t LeipzigCornelia Beer und Christian St&ouml\;&szlig\;elLiebigstra&szlig\;e 2704103 LeipzigTelefon: 0341 / 97 15791Cornelia.Beer@medizin.uni-leipzig.de Christian.Stoessel@medizin.uni-leipzig.de\n&nbsp\;
END:VEVENT
END:VCALENDAR
