BEGIN:VCALENDAR
VERSION:2.0
PRODID:-//YourOrganization//EventDownload//DE
CALSCALE:GREGORIAN
METHOD:PUBLISH
BEGIN:VEVENT
UID:69e4e1fb77d8d@leapup.bitshifters.cloud
DTSTAMP:20260419T160859Z
DTSTART:20250409T093000Z
DTEND:20250412T123000Z
SUMMARY:65. Kongress der DGP - Pneumologie 2025
DESCRIPTION:Der DGP-Kongress bietet allj&auml\;hrlich eine Plattform der Begegnung. Kern des Kongresses ist das wissenschaftliche Programm mit zahlreichen Vortr&auml\;gen\, Symposien und Posterpr&auml\;sentationen\, auf denen Sie sich zu beruflichen Erfahrungen und neuesten Erkenntnissen der Forschung austauschen k&ouml\;nnen. Daneben finden Sie Veranstaltungen zu Training\, Fort- und Weiterbildung f&uuml\;r alle Stufen der beruflichen Laufbahn &ndash\; insbesondere richten wir uns auch an Studierende und Berufseinsteiger. Foren zu berufspolitischen Themen erm&ouml\;glichen Ihnen den Austausch zu strukturellen Bedingungen der pneumologischen Alltagspraxis.&nbsp\;\nWeitere Informationen zu der Veranstaltung finden Sie hier.
LOCATION:Congress Center Leipzig\, Seehausener Allee 1\, 04356 Leipzig
END:VEVENT
END:VCALENDAR
