BEGIN:VCALENDAR
VERSION:2.0
PRODID:-//YourOrganization//EventDownload//DE
CALSCALE:GREGORIAN
METHOD:PUBLISH
BEGIN:VEVENT
UID:69e56aa4b537b@leapup.bitshifters.cloud
DTSTAMP:20260420T015204Z
DTSTART:20221130T170000Z
DTEND:20221130T190000Z
SUMMARY:66. Stammtisch Life Science
DESCRIPTION:St&auml\;rkung von KMU durch Innovation &ndash\; F&ouml\;rderprogramme auf Landes&shy\; und Bundesebene\nIn Anbetracht der aktuellen Umbr&uuml\;che geht es gerade f&uuml\;r kleine und mittlere Unternehmen darum\, geeignete Vorbereitungen zu treffen\, um auch langfristig krisenfest und wettbewerbsf&auml\;hig zu bleiben. Dabei spielen Produkt-\, Verfahrens- oder Gesch&auml\;ftsmodellinnovationen und der vereinfachte Zugang zu F&ouml\;rderung eine wichtige Rolle.\nFreuen Sie sich auf spannende Vortr&auml\;ge und einen informativen Erfahrungsaustausch in Stammtischatmosph&auml\;re. F&uuml\;r Getr&auml\;nke und etwas zum Knabbern ist gesorgt.\nDas Programm entnehmen Sie bitte dem Einladungsflyer.\nDie Veranstaltung ist kostenfrei.\nJetzt anmelden!
LOCATION:BIO CITY LEIPZIG\, Bistro im Erdgeschoss\, Deutscher Platz 5\, 04103 Leipzig
END:VEVENT
END:VCALENDAR
