BEGIN:VCALENDAR
VERSION:2.0
PRODID:-//YourOrganization//EventDownload//DE
CALSCALE:GREGORIAN
METHOD:PUBLISH
BEGIN:VEVENT
UID:69e4cf06ee1fb@leapup.bitshifters.cloud
DTSTAMP:20260419T144806Z
DTSTART:20240314T130000Z
DTEND:20240314T150000Z
SUMMARY:6G-Technologie für die Zukunft des Gesundheitswesens (kostenfreier Workshop)
DESCRIPTION:Die International Telecommunication Union (ITU) hat k&uuml\;rzlich den Rahmen f&uuml\;r die Entwicklung von Standards und Funkschnittstellentechnologien f&uuml\;r die sechste Mobilfunk-Generation (6G) ver&ouml\;ffentlicht.&nbsp\;\nLaut ITU sollen folgende Eigenschaften das zuk&uuml\;nftige 6G-Netzwerk ausmachen:&nbsp\;\nInclusivity: erschwinglicher Zugang zu Konnektivit&auml\;t vorzugsweise f&uuml\;r alle&nbsp\;Ubiquitous connectivity: erschwingliche Konnektivit&auml\;t vorzugsweise &uuml\;berall&nbsp\;Nachhaltigkeit: Energieeffizienz und geringer Stromverbrauch&nbsp\;Sicherheit und Ausfallsicherheit: Security-by-Design\, Fortf&uuml\;hrung des Betriebs w&auml\;hrend eines St&ouml\;rfalls und schnelle Wiederherstellung nach einem St&ouml\;rfall&nbsp\;Interoperabilit&auml\;t: transparente und umfassend standardisierte Schnittstellen&nbsp\;Sensoren: Wahrnehmung der physischen Umgebung in Kombination mit K&uuml\;nstlicher Intelligenz&nbsp\;&nbsp\;Dazu nennt die ITU u.a. die folgenden technischen Eigenschaften f&uuml\;r 6G:&nbsp\;\nPeak data rate (50 - 200 Gbit/s)&nbsp\;User experienced data rate (300 Mbit/s - 500 Mbit/s)&nbsp\;Area traffic capacity (30 Mbit/sm2 - 50 Mbit/sm2)&nbsp\;Connection Density (106 &ndash\; 108 devices/km2)&nbsp\;Mobility (500 &ndash\; 1000 km/h)&nbsp\;Latency (0.1 - 1 ms)&nbsp\;Reliability (10&minus\;5 to 10&minus\;7)&nbsp\;Positioning (1 - 10 cm)&nbsp\;Dadurch ergibt sich ein erhebliches Potenzial f&uuml\;r unterschiedliche Anwendungen im Gesundheitswesen. So k&ouml\;nnen K&uuml\;nstliche Intelligenz\, Edge Computing\, ubiquit&auml\;re Konnektivit&auml\;t\, multisensorische Kommunikation\, Ortungsf&auml\;higkeiten und Sensorik im 6G-Netzwerk eine Vielzahl digitaler Gesundheitsdienste verbessern oder erst erm&ouml\;glichen. 6G-Technologie wird dazu beitragen\, Wearables und K&ouml\;rpersensoren zu verbessern und st&auml\;rker in den Alltag der Gesundheitsversorgung zu integrieren. Batterielose IoT-Ger&auml\;te werden von der Steigerung der Energieeffizienz und dem verringerten Stromverbrauch profitieren oder gar erst m&ouml\;glich gemacht.&nbsp\;\nWir nehmen diese vielversprechenden Aussichten zum Anlass\, das Potenzial dieser neuen Technologie\, aber auch deren Chancen und Risiken\, in einem ersten Online-Workshops mit Ihnen zu er&ouml\;rtern. Gleichzeitig m&ouml\;chten wir die Ergebnisse unserer aktuellen Online-6G-Kurzumfrage diskutieren. Die Umfrage ist noch offen. Bitte beteiligen Sie sich gerne.\nZUR UMFRAGE
LOCATION:Online\, Offenbach am Main
END:VEVENT
END:VCALENDAR
