BEGIN:VCALENDAR
VERSION:2.0
PRODID:-//YourOrganization//EventDownload//DE
CALSCALE:GREGORIAN
METHOD:PUBLISH
BEGIN:VEVENT
UID:69e68bcfa822c@leapup.bitshifters.cloud
DTSTAMP:20260420T222551Z
DTSTART:20160821T000000Z
DTEND:20160825T000000Z
SUMMARY:6th International Congress on Ceramics 
DESCRIPTION:Der 6th International Congress on Ceramics (ICC6) findet 2016 erstmalig in Dresden statt. Veranstalter sind die Deutsche Keramische Gesellschaft e.V. und das Fraunhofer IKTS.\nEin besonderes Augenmerk m&ouml\;chten wir dabei gern auf die Session &bdquo\;Bioceramics and medical applications&ldquo\; legen. Im Rahmen dieser Session plant das Fraunhofer IKTS Experten der Keramikindustrie mit Experten aus der Biomedizin in gr&ouml\;&szlig\;erer Anzahl zusammenzubringen\, wobei ein ausgewogenes Verh&auml\;ltnis aus Industrie und Forschungsorganisationen angestrebt wird.\nDiese f&uuml\;r die Keramikindustrie bedeutendste Konferenz (es werden &uuml\;ber 600 Teilnehmer erwartet) wird unterst&uuml\;tzt von 3 gro&szlig\;en Institutionen der Keramikindustrie\, der International Ceramic Federation (ICF)\, der Deutsche Keramische Gesellschaft (DKG) und der American Ceramic Society (ACerS).  Die Veranstaltung wird komplett in englischer Sprache gehalten.\nDetails zur Anmeldung und zum Call for Papers finden Sie hier:\nhttp://www.icc-6.com/icc6.html\nDer Call ist offen bis Anfang Februar 2016.\nAuch eine Ausstellungsbeteiligung ist noch m&ouml\;glich:\nhttp://www.icc-6.com/industrial_exhibition.html\nDieses Paket w&uuml\;rde dann auch eine kostenlose Konferenzteilnahme f&uuml\;r eine Person erm&ouml\;glichen.
END:VEVENT
END:VCALENDAR
