BEGIN:VCALENDAR
VERSION:2.0
PRODID:-//YourOrganization//EventDownload//DE
CALSCALE:GREGORIAN
METHOD:PUBLISH
BEGIN:VEVENT
UID:69e8b48e6cdac@leapup.bitshifters.cloud
DTSTAMP:20260422T134414Z
DTSTART:20181116T090000Z
DTEND:20181117T170000Z
SUMMARY:7. Dresdner Medizinrechtssymposium
DESCRIPTION:#Was 7. Dresdner Medizinrechtssymposium:- off label-use von Medizinprodukten- MDK-Qulitätskontroll-Rihtlinien- MVZ auf dem Vormarsch- aktuelle medizinrechtliche Rechtsprechung- Medizin 4.0\, iHospital\, Gesundheitsapps- Software als Medizinprodukt- Big Data am Beispiel Biodatenbanken- Datenschutzrichtlinien in der Praxis\n#Wann Freitag\, 16.11.2018 (9-20 Uhr) &amp\; Sonnabend\, 17.11.2018 (9-17 Uhr)#Wo Festsaal der Sächsischen Landesärztekammer (Schützenhöhe 16\, 01099 in Dresden)#Tagungsgebühr 399 EuroSonderkonditionen für DIU-Studierende\, Mitglieder der SLÄK und Fördervereinsmitglieder Medizinrecht der DIU #Abschluss Das Symposium erfüllt die Voraussetzung nach § 15 FAO im Rahmen eines Fachanwaltsfortbildungsseminars im Umfang von 15 Zeitstunden. Die Sächsische Landesärztekammer vergibt für das Symposium die entsprechenden Fortbildungspunkte für Ärzte.#Anmeldung http://www.di-uni.de/index.php?id=579#WissLeitungProf. Dr. Bernd-Rüdiger Kern\, wissenschaftlicher Leiter des DIU-Studienganges Medizinrecht\, LL.M.Prof. Dr. med. Christof Wagner Leiter medizinische Fortbildung Förderverein Medizinrecht#Moderation Peter Kalb\, Rechtsreferent der Bayerischen Landesärztekammer#Programm http://www.di-uni.de/index.php?id=577\n#Fortbildungspunkte/TeilnahmebescheinigungDas Symposium erfüllt die Voraussetzung nach §15 FAO im Rahmen eines Fachanwaltsfortbildungsseminares im Umfang von 15 Zeitstunden. Fortbildungspunkte für Ärzte werden bei der Sächsischen Landesärztekammer beantragt. Alle Kongressteilnehmer erhalten am Ende der Veranstaltung eine Teilnahmebescheinigung.\n#TagungsunterlagenDie Vorträge stellen wir Ihnen nach dem Symposium digital zum Download auf unserer Homepage zur Verfügung.\n#Hinweise zur ÜbernachtungEs wurde für die Teilnehmer des Symposiums ein Abrufkontingent mit zwei Hotels in unmittelbarer Nähe der Ärztekammer eingerichtet. Das Stichwort für das Abrufkontingent wird mit der Anmeldebestätigung übermittelt.
LOCATION:Festsaal der Sächsischen Landesärztekammer\, Schützenhöhe 16\, 01099 Dresden
END:VEVENT
END:VCALENDAR
