BEGIN:VCALENDAR
VERSION:2.0
PRODID:-//YourOrganization//EventDownload//DE
CALSCALE:GREGORIAN
METHOD:PUBLISH
BEGIN:VEVENT
UID:69e54b2709578@leapup.bitshifters.cloud
DTSTAMP:20260419T233743Z
DTSTART:20230927T090000Z
DTEND:20230927T170000Z
SUMMARY:7. Life Sciences Forum Sachsen
DESCRIPTION:Der Bund verabschiedete im Jahr 2021 das Krankenhauszukunftsgesetz\, das F&ouml\;rdermittel in Milliardenh&ouml\;he zur Digitalisierung in Krankenh&auml\;usern bereitstellte. Die Umsetzung der Ma&szlig\;nahmen soll bis 2024 erfolgen. Brandenburg und Sachsen hatten im Jahr 2017 mit dem "Gro&szlig\;r&auml\;schener Grundsatzpapier" die Weichen f&uuml\;r eine einheitliche Strukturentwicklung der Lausitz gelegt. Inzwischen l&auml\;uft der Prozess der Strukturentwicklung in der gesamten Lausitz. Die Lausitz soll als Region mit hoher Lebensqualit&auml\;t einheitlich entwickelt werden. Brandenburg und Sachsen bekr&auml\;ftigen in ihrer Kooperationsvereinbarung u. a. das Ziel "[...] St&auml\;rkung als moderner Forschungs-\, Innovations- und Wissenschaftsstandort und als eine Modellregion f&uuml\;r Gesundheit [&hellip\;]". Um die Region mit ihren Potenzialen und Herausforderungen in den Fokus zu r&uuml\;cken und die Entwicklung voranzutreiben\, findet das Life Sciences Forum in diesem Jahr in Hoyerswerda statt.\nWeitere Informationen
LOCATION:Lausitzhalle\, Lausitzer Pl. 4\, 02977 Hoyerswerda
END:VEVENT
END:VCALENDAR
