BEGIN:VCALENDAR
VERSION:2.0
PRODID:-//YourOrganization//EventDownload//DE
CALSCALE:GREGORIAN
METHOD:PUBLISH
BEGIN:VEVENT
UID:69e546cb5462a@leapup.bitshifters.cloud
DTSTAMP:20260419T231907Z
DTSTART:20240919T100000Z
DTEND:20240920T160000Z
SUMMARY:8. Freiberger Kollagen-Symposium
DESCRIPTION:Das 8. Freiberger Kollagensymposium deckt wieder ein breites Spektrum an Themen zu verschiedenen Aspekten von Kollagen und seiner Anwendung ab. Die Vortr&auml\;ge konzentrieren sich auf:\n\ndie neueste medizinische Forschung und Anwendungen im Tissue Engineering\,\nKollagenstruktur\, -vernetzung und -stabilit&auml\;t\,\nAnalysemethoden\, Verarbeitungstechniken und neue Kollagenressourcen und\ntechnische Anwendungen von Kollagen und Gelatine.\n\nDie Anwendungsgebiete von Kollagen sind vielf&auml\;ltig. Im Hinblick auf die aktuellen Herausforderungen\, die Ausbeutung fossiler Ressourcen zu minimieren und den Einsatz synthetischer Polymere zu vermeiden\, gewinnt Kollagen als Biopolymer immer mehr an Attraktivit&auml\;t. In j&uuml\;ngster Zeit wird es intensiv f&uuml\;r medizinische Produkte und Ger&auml:te\, als Zusatzstoff in kosmetischen und pharmazeutischen Produkten\, aber auch als Verpackungs- und Beschichtungsmaterial und f&uuml\;r Lebensmittel eingesetzt.\nSehen Sie mit dabei und diskutieren Sie mit!\nJetzt anmelden
LOCATION:"Alte Mensa"\, Petersstraße 5\, 09599 Freiberg
END:VEVENT
END:VCALENDAR
