BEGIN:VCALENDAR
VERSION:2.0
PRODID:-//YourOrganization//EventDownload//DE
CALSCALE:GREGORIAN
METHOD:PUBLISH
BEGIN:VEVENT
UID:69e9835e04605@leapup.bitshifters.cloud
DTSTAMP:20260423T042638Z
DTSTART:20130925T000000Z
DTEND:20130925T000000Z
SUMMARY:8. Innovationstag der GWT-TUD GmbH
DESCRIPTION:Zum 8. Innovationstag werden f&uuml\;hrende s&auml\;chsische Wissenschaftler\, u.a. von der Technischen Universit&auml\;t Dresden und dem Forschungszentrum Dresden Rossendorf e.V. neue innovative Technologien und Entwicklungen auf dem Gebiet der Mikroelektronik vorstellen. Sie wollen mehr &uuml\;ber die Technologien und Entwicklungen erfahren? Dann planen Sie sich am Mittwoch\, 25. September 2013 ab 15.30 Uhr einen Besuch beim 8. Innovationstag der GWT-TUD GmbH zusammen mit Silicon Saxony am Helmholtz Zentrum Dresden Rossendorf e.V. ein.\nEin detalliertes Programm folgt in K&uuml\;rze!
END:VEVENT
END:VCALENDAR
