BEGIN:VCALENDAR
VERSION:2.0
PRODID:-//YourOrganization//EventDownload//DE
CALSCALE:GREGORIAN
METHOD:PUBLISH
BEGIN:VEVENT
UID:69e6d65681154@leapup.bitshifters.cloud
DTSTAMP:20260421T034350Z
DTSTART:20140409T000000Z
DTEND:20140414T000000Z
SUMMARY:8th International Symposium on Neuroprotection and Neurorepair
DESCRIPTION:Vom 09.&ndash\;14. April 2014 findet im Maritim-Hotel in Magdeburg das &bdquo\;8th International Symposium on Neuroprotection and Neurorepair&ldquo\; statt. Ausrichter dieses Symposiums wird das Fraunhofer Institut f&uuml\;r Zelltherapie und Immunologie Leipzig in Kooperation mit der Otto-von-Guericke-Universit&auml\;t Magdeburg sein.\nDie wissenschaftlichen Schwerpunkte des Symposiums werden neurodegenerative Erkrankungen wie der Schlaganfall\, die Alzheimersche und die Parkinsonsche Erkrankung sein. In zahlreichen Vortragsveranstaltungen werden die Grundlagen dieser Erkrankungen sowie neuartige therapeutische und diagnostische Ans&auml\;tze diskutiert werden.
END:VEVENT
END:VCALENDAR
