BEGIN:VCALENDAR
VERSION:2.0
PRODID:-//YourOrganization//EventDownload//DE
CALSCALE:GREGORIAN
METHOD:PUBLISH
BEGIN:VEVENT
UID:69e62ca242fb8@leapup.bitshifters.cloud
DTSTAMP:20260420T153946Z
DTSTART:20180417T130000Z
DTEND:20180417T183000Z
SUMMARY:9. Innovationswerkstatt Wirtschaft: Wachstum. Das nächste Level.
DESCRIPTION:Wie geht Wachstum? Diese Frage steht im Mittelpunkt der 9. Innovationswerkstatt Wirtschaft mit dem Thema „Wachstum. Das nächste Level.“ am 17. April 2018. Vier gestandene Unternehmer geben ihre ganz eigenen Erfahrungen mit Wachstumsprozessen und -hindernissen weiter. Daneben erklären zwei Hightech-Investoren\, welche Beobachtungen sie mit ihren Beteiligungen gemacht haben und wann der Aufbau von Unternehmen mit echter Wertschöpfung (nicht) gelingt. &gt\;&gt\;MEHR\nHinweise:\n\nDie Veranstaltung ist auf 100 Teilnehmer limitiert.\nAlle Ticketpreise verstehen sich inkl. MwSt.\nAlle Tickets beinhalten Catering während des Veranstaltungszeitraumes\nEs sind 30 Early Bird Tickets verfügbar\n\nSollten Sie nach erfolgter Anmeldung nicht teilnehmen können\, prüfen Sie zuerst\, ob Sie einen Vertreter zur Veranstaltung entsenden können. Senden Sie Ihre Änderungsmitteilung bitte an: netzwerk@hightech-startbahn.deEine Stornierung ist bis zum 09.04.2018 möglich. Bei Stornierung nach dem 09.04.2018 fallen Stornogebühren i.H.v. 15% des Verkaufspreises an.
LOCATION:GebäudeEnsemble Deutsche Werkstätten Hellerau\, Moritzburger Weg 67\, 01109 Dresden
END:VEVENT
END:VCALENDAR
