BEGIN:VCALENDAR
VERSION:2.0
PRODID:-//YourOrganization//EventDownload//DE
CALSCALE:GREGORIAN
METHOD:PUBLISH
BEGIN:VEVENT
UID:69e8ccda4b241@leapup.bitshifters.cloud
DTSTAMP:20260422T152754Z
DTSTART:20200325T170000Z
DTEND:20200325T190000Z
SUMMARY:ABGESAGT: Life Science Stammtisch
DESCRIPTION:Vor dem Hintergrund der aktuellen Entwicklungen im Zuge der Ausbreitung des Corona-Virus und der diesbez&uuml\;glich angeratenen Vorsichtsma&szlig\;nahmen findet der Stammtisch Life Science nicht wie urspr&uuml\;nglich vorgesehen statt.\n64. Stammtisch Life Science: Netzwerk im Fokus: Die neuen Leipziger stellen sich vor\nEine erfolgreiche Beziehung ist immer auf einem pers&ouml\;nlichen Kennenlernen begr&uuml\;ndet. Dabei sind der Eindruck und das Wissen jenseits der online verf&uuml\;gbaren Informationen entscheidend.\nBeim n&auml\;chsten Stammtisch erhalten zwei &bdquo\;Neu-Leipziger&ldquo\; die Gelegenheit sich vorzustellen und im Leipziger Life-Science Netzwerk anzukommen. Erfahren Sie\, welche Kompetenzen die Unternehmen anbieten und an welchen stellen Kooperationsm&ouml\;glichkeiten bestehen.\nIsabell Antholz von der Mannin GmbH stellt ihr Biotechnologieunternehmen vor\, das sich auf die Erforschung\, Entwicklung und Kommerzialisierung von Therapeutika f&uuml\;r Gef&auml\;&szlig\;erkrankungen spezialisiert hat. Dabei berichtet sie von der Ansiedlungsstrategie der Mannin Research Inc. und den damit verbundenen Herausforderungen.\nDr. Kerstin Stangier von der Genewiz Germany GmbH\, ein international t&auml\;tiges Life-Science Unternehmen\, stellt das umfassende Dienstleistungsportfolio im Bereich DNA-Sequenzierung\, Next-Generation Sequenzierung\, Gensynthese\, Molekularbiologie\, bioinformatische und GLP-konforme Services vor.\nIm Anschluss besteht wie immer die Gelegenheit f&uuml\;r interessante Einzelgespr&auml\;che mit den Referentinnen und den weiteren Stammtischteilnehmern.\n\nProgramm\n17:00 Uhr Begr&uuml\;&szlig\;ung\n17:10 Uhr Mannin GmbH &ndash\; Leistungen und Herausforderungen eines jungen Biotechnologieunternehmens\nIsabell Antholz\, Gesch&auml\;ftsf&uuml\;hrerin Mannin GmbH\n17:40 Uhr Genewiz &ndash\; Wo Gene und Gina zaubern\nDr. Kerstin Stangier\, Senior Director\, Genewiz Europe\n18:10 Uhr Geselliger Erfahrungsaustausch\n\nDie Veranstaltung ist kostenfrei. Um vorherige Anmeldung wird gebeten per E-Mail an gatz@agil-leipzig.de.
LOCATION:BIO CITY Leipzig - Bistro im Erdgeschoss\, Deutscher Platz 5\, 04103 Leipzig
END:VEVENT
END:VCALENDAR
