BEGIN:VCALENDAR
VERSION:2.0
PRODID:-//YourOrganization//EventDownload//DE
CALSCALE:GREGORIAN
METHOD:PUBLISH
BEGIN:VEVENT
UID:69e8a379e7d7c@leapup.bitshifters.cloud
DTSTAMP:20260422T123121Z
DTSTART:20200330T090000Z
DTEND:20200403T170000Z
SUMMARY:ABSAGE: Dabei Sein! - Sächsische Außenwirtschaftswoche
DESCRIPTION:Aus aktuellem Anlass m&uuml\;ssen alle Veranstaltungen im Rahmen der S&auml\;chsischen Au&szlig\;enwirtschaftswoche leider abgesagt werden.\n&nbsp\;\nVeranstaltungen und Informationen zum internationalen Gesch&auml\;ft in Chemnitz\, Dresden\, Leipzig\, Freiberg\nUnter dem Motto &bdquo\;SACHSEN! Weltweit dabei.&ldquo\; k&ouml\;nnen sich s&auml\;chsische Unternehmer bereits zum siebten Mal im Rahmen der S&auml\;chsischen Au&szlig\;enwirtschaftswoche &uuml\;ber strategische und praktische Aspekte des Auslandsgesch&auml\;fts informieren&nbsp\;sowie mit Experten und erfahrenen Exporteuren austauschen.\nNeue M&auml\;rkte und Chancen\, aber auch rechtliche Vorgaben und Risiken sind Teil des t&auml\;glichen Gesch&auml\;fts und verlangen von Firmenvertretern die richtigen Entscheidungen.\nDie Akteure der Au&szlig\;enwirtschaftsinitiative Sachsen AWIS wollen mit ihrem Programm Fragen beantworten und Know-how vermitteln. Das Veranstaltungsangebot in Chemnitz\, Dresden\, Freiberg und Leipzig richtet sich dabei nicht nur an bereits im Export t&auml\;tige Unternehmen sondern auch an Einsteiger.\nAlle Veranstaltungen sind kostenfrei. Um Anmeldung wird gebeten.
END:VEVENT
END:VCALENDAR
