BEGIN:VCALENDAR
VERSION:2.0
PRODID:-//YourOrganization//EventDownload//DE
CALSCALE:GREGORIAN
METHOD:PUBLISH
BEGIN:VEVENT
UID:69e5d7a4025e0@leapup.bitshifters.cloud
DTSTAMP:20260420T093708Z
DTSTART:20200716T170000Z
DTEND:20200716T234500Z
SUMMARY:ABSAGE: Lange Nacht der Wissenschaften 
DESCRIPTION:Wegen der Corona-Krise wird die Lange Nacht der Wissenschaften in diesem Jahr ausfallen und auf den 16.07.2021 verschoben. 
LOCATION:BIO CITY LEIPZIG \, Deutscher Platz 5c\, 04103 Leipzig
END:VEVENT
END:VCALENDAR
