BEGIN:VCALENDAR
VERSION:2.0
PRODID:-//YourOrganization//EventDownload//DE
CALSCALE:GREGORIAN
METHOD:PUBLISH
BEGIN:VEVENT
UID:69e4e28e3cf3c@leapup.bitshifters.cloud
DTSTAMP:20260419T161126Z
DTSTART:20250820T000000Z
DTEND:20250822T000000Z
SUMMARY:Acoustofluidics 2025 - Innovationen in der Mikro- und Nanoskaligen Akustik in Fluiden
DESCRIPTION:Die internationale Jahrestagung der Akustofluidik-Forschungsgesellschaft Acoustofluidics 2025\, die in diesem Jahr am Leibniz-Institut für Festkörper- und Werkstoffforschung (IFW Dresden) stattfindet\, wird sich mit den neuesten Entwicklungen in Wissenschaft und Technik im Bereich der Fluidik mit akustischen Kraftfeldern befassen. Zu den Themen gehören die Herstellung von Schallwandlern\, Lab-on-a-Chip-Systeme und Anwendungen in Biologie\, Medizin und Energie. Auf der Konferenz werden Hauptredner wie Birgit Stiller\, Chuyi Chen\, Zhixiong Gong und Minoru K. Kurosawa auftreten. Frühbucheranmeldungen sind bis zum 21. Mai 2025 möglich. Späte Postereinreichungen sind möglich.
LOCATION:Leibniz Institute for Solid State and Materials Research (IFW Dresden)\, Helmholtzstr. 20 \, 01069 Dresden
END:VEVENT
END:VCALENDAR
