BEGIN:VCALENDAR
VERSION:2.0
PRODID:-//YourOrganization//EventDownload//DE
CALSCALE:GREGORIAN
METHOD:PUBLISH
BEGIN:VEVENT
UID:69e52f6d5aae6@leapup.bitshifters.cloud
DTSTAMP:20260419T213925Z
DTSTART:20240611T100000Z
DTEND:20240611T160000Z
SUMMARY:Advances in Antibody Engineering for In Vitro Diagnostics and Drug Discovery
DESCRIPTION:Sino Biological is at the cusp of a new era in healthcare innovation\, particularly in the field of antibody engineering. The "Advances in Antibody Engineering for In Vitro Diagnostics and Drug Discovery" symposium is designed to bring together the brightest minds in biotechnology to explore groundbreaking advancements in monoclonal antibody engineering and their profound impact on therapeutic development.\nWhy You Should Attend:\n\nCutting-edge Insights:&nbsp\;Dive into the latest technological breakthroughs and strategies for creating antibodies with enhanced efficacy and specificity.\nSuccess Stories:&nbsp\;Hear firsthand from industry leaders about the real-world applications of engineered antibodies\, especially in oncology and diagnostics.\nNetworking:&nbsp\;Connect with professionals\, academics\, and students who are at the forefront of biotechnological innovation.\nCollaborative Opportunities:&nbsp\;Engage in discussions that could lead to innovative solutions and advancements in antibody engineering.\n\nSymposium Highlights:\nKeynote Presentations&nbsp\;by distinguished speakers such as Dr. Anton Shostak from Bayer AG\, Dr. Peter Carl from Safia Technologies GmbH\, Dr. Tim Ermak from Silica corpora GmbH\, and Dr. Jing Gong from Sino Biological Europe GmbH.Interactive Sessions&nbsp\;to discuss current trends\, challenges\, and opportunities in antibody engineering.Networking Opportunities&nbsp\;with a catered reception for forging valuable connections and collaborations.\nREGISTER
LOCATION:Bio City\, Deutscher Platz 5\, 04103 Leipzig
END:VEVENT
END:VCALENDAR
