BEGIN:VCALENDAR
VERSION:2.0
PRODID:-//YourOrganization//EventDownload//DE
CALSCALE:GREGORIAN
METHOD:PUBLISH
BEGIN:VEVENT
UID:69e4fd7010133@leapup.bitshifters.cloud
DTSTAMP:20260419T180608Z
DTSTART:20250403T170000Z
DTEND:20250403T203000Z
SUMMARY:AfterWork beer event meets MEDICAL FORGE WELCOME WEEK
DESCRIPTION:\nWir laden Sie herzlich zum&nbsp\;AfterWork-Netzwerk-Event meets MEDICAL FORGE WELCOME WEEK&nbsp\;in die BIO CITY LEIPZIG ein.\nLassen Sie uns gemeinsam den Feierabend in entspannter Atmosph&auml\;re bei Freibier und anderen Getr&auml\;nken ausklingen. Au&szlig\;erdem erwartet Sie ein leckeres Catering. Der diesmalige Sponsor ist biosaxony und die MEDICAL FORGE LEIPZIG.\nIm Rahmen der Welcome Week treffen Sie auch die&nbsp\;MEDICAL FORGE Teams der vierten Runde.\nDie Veranstaltung ist&nbsp\;kostenfrei.\nAnmeldefrist: 28.03.2025\nWir freuen uns auf Sie!\nJETZT ANMELDEN
LOCATION:leap:up GmbH\, Deutscher Platz 5c\, 04103 Leipzig
END:VEVENT
END:VCALENDAR
