BEGIN:VCALENDAR
VERSION:2.0
PRODID:-//YourOrganization//EventDownload//DE
CALSCALE:GREGORIAN
METHOD:PUBLISH
BEGIN:VEVENT
UID:69e5549a045a4@leapup.bitshifters.cloud
DTSTAMP:20260420T001802Z
DTSTART:20230524T170000Z
DTEND:20230524T200000Z
SUMMARY:AfterWork-Netzwerk-Event in der BIO CITY LEIPZIG
DESCRIPTION:Wir laden Sie herzlich zum Freibier unter dem Motto &bdquo\;Oh my god it&rsquo\;s just Wednesday! But there is beer!&ldquo\; in die BIO CITY LEIPZIG ein.\nWann? Mittwoch\, 24.05.23 ab 17.00 UhrWo? im Innenhof der BIO CITY\, bei Regen im AtriumWas? Networking &amp\; Get-together in entspannter Atmosph&auml\;re\nF&uuml\;r das &bdquo\;fl&uuml\;ssige leibliche Wohl&ldquo\; ist gesorgt (sponsored by Azenta Life Sciences)\nF&uuml\;r die Nicht-Bier-Trinker steht selbstverst&auml\;ndlich auch H2O zur Verf&uuml\;gung.\nEine vorherige Anmeldung ist nicht n&ouml\;tig.\nBitte teilen Sie das Event auch flei&szlig\;ig unter Ihren Kolleg:innen.&nbsp\;\nF&uuml\;r Ideen\, W&uuml\;nsche\, Anregungen und nat&uuml\;rlich auch Sponsoring-Anfragen sind wir offen. Melden Sie sich gerne unter events@biosaxony.com.\n
LOCATION:BIO CITY LEIPZIG\, Deutscher Platz 5\, 04103 Leipzig
END:VEVENT
END:VCALENDAR
