BEGIN:VCALENDAR
VERSION:2.0
PRODID:-//YourOrganization//EventDownload//DE
CALSCALE:GREGORIAN
METHOD:PUBLISH
BEGIN:VEVENT
UID:69e4e25417980@leapup.bitshifters.cloud
DTSTAMP:20260419T161028Z
DTSTART:20240424T170000Z
DTEND:20240424T203000Z
SUMMARY:AfterWork „Oh my god it’s just Wednesday! But there is beer!“ meets MEDICAL FORGE WELCOME WEEK
DESCRIPTION:\nWir laden Sie herzlich zum&nbsp\;AfterWork-Netzwerk-Event&nbsp\;&bdquo\;Oh my god it&rsquo\;s just Wednesday! But there is beer!&ldquo\;&nbsp\;meets MEDICAL FORGE WELCOME WEEK&nbsp\;in die BIO CITY LEIPZIG ein.\nLassen Sie uns gemeinsam den Feierabend in entspannter Atmosph&auml\;re bei Freibier und anderen Getr&auml\;nken ausklingen. Au&szlig\;erdem erwartet Sie ein leckeres Catering. Der diesmalige Sponsor ist biosaxony und die MEDICAL FORGE LEIPZIG.\nIm Rahmen der Welcome Week treffen Sie auch die MEDICAL FORGE Teams der dritten Runde.\nDie Veranstaltung ist&nbsp\;kostenfrei.\nAnmeldefrist: 19.04.2024\nWir freuen uns auf Sie!\nJETZT ANMELDEN
LOCATION:BIO CITY Leipzig\, Deutscher Platz 5\, 04103 Leipzig
END:VEVENT
END:VCALENDAR
