BEGIN:VCALENDAR
VERSION:2.0
PRODID:-//YourOrganization//EventDownload//DE
CALSCALE:GREGORIAN
METHOD:PUBLISH
BEGIN:VEVENT
UID:69e54b27c525a@leapup.bitshifters.cloud
DTSTAMP:20260419T233743Z
DTSTART:20230504T090000Z
DTEND:20230505T160000Z
SUMMARY:Agiles Management
DESCRIPTION:\nGemeinsam mit der QUANTIC Digital GmbH veranstaltet biosaxony am 04. &amp\; 05. Mai 2023\, jeweils von 09:00-16:00 Uhr\, ein 2-t&auml\;giges Management-Training in der BIO CITY Leipzig.\nREFERENT: \n\nPeter Wolf\, Prokurist Digitalisierung und Agiles Management\, QUANTIC Digital GmbH\n\nUnternehmen der Biotechnologie-\, Medizintechnik- und Gesundheitswirtschaftsbranche sind einem dynamischen Umfeld ausgesetzt\, das st&auml\;ndig wachsenden Anforderungen unterliegt die eine schnelle Integration neuer Entwicklungen in laufende Planungen erfordern.&nbsp\;&nbsp\;\nIn dem zweit&auml\;tigen Workshop vermitteln wir Ihnen\, gemeinsam mit der digitalen Leipziger Unternehmensberatung QUANTIC Digital GmbH\, agile Projektmanagementmethoden sowie erste Einblicke in agile Methoden wie Scrum\, Kanban und Design Thinking.&nbsp\;\nMit speziell auf die Branche zugeschnittenen fiktiven und realen Praxisbeispielen sowie experimentellen Rollenspielen im Team zeigen wir Ihnen das Potenzial der Methoden auf und erarbeiten eine Roadmap f&uuml\;r die Einf&uuml\;hrung agiler Methoden in Ihrem Unternehmen. In einer konstruktiven und entspannten Atmosph&auml\;re lernen Sie so\, wie Sie Rollen\, Verantwortlichkeiten und Kapazit&auml\;ten transparent darstellen und den Transformationsprozess gezielt angehen k&ouml\;nnen.&nbsp\;\nAGENDA:\nDonnerstag\, 04.05.2023\n1. Block\n\nVorstellung der Teilnehmer und der Quantic Digital\nWas ist Agiles Management und warum lassen sich damit Projekte und Prozesse in Zukunft effektiver umsetzen? Was sind die Vorteile f&uuml\;r die Unternehmen und warum schafft Agiles Management einen Innovationsvorsprung? Impulsvortrag\n\n2. Block\n\nDas Flussexperiment. Durch die Teilnahme an unserem Experiment werden agile Methoden greif- und erlebbar. Der Mehrwert f&uuml\;r die Teilnehmer wird durch ein praktisches Beispiel anschaulich demonstriert.\nAuswertung des Experimentes und Gegen&uuml\;berstellung etablierter Linienarbeit und Agiles Arbeiten im Hinblick auf Erh&ouml\;hung der Effizienz und Produktivit&auml\;t.\n\n3. Block\n\nAktive Kommunikation als Grundelement des Agilen Management. Neugier\, Wahrnehmung und Struktur an die Formulierung der Anforderungen im Agilen Management.\nRequirement Engineering oder warum es (nicht nur) im Agilen Management wichtig ist\, Anforderungen klar zu formulieren.\n\nFreitag\, 05.05.2023\nDer zweite Tag konzentriert sich auf praktische Gruppenarbeit. Ziel ist es dabei\, unterschiedliche und individuelle Bed&uuml\;rfnisse zu erfahren\, diese zu kontextualisieren und zu priorisieren. Aus diesen Bed&uuml\;rfnissen werden im weiteren Verlauf konkrete Anforderungen an die Gruppe formuliert und es werden daraus erste Prototypen gestaltet und gemeinsam reflektiert. Diese Gruppenarbeit soll den Teilnehmern die Gelegenheit bieten\, Methoden zu erlernen\, mit denen verschiedenen Bed&uuml\;rfnisse einer Gruppe wahrgenommen und eingeordnet werden sowie gemeinsame Ziele definiert und umgesetzt werden. Dies ist die Grundvoraussetzung f&uuml\;r Agiles Arbeiten in Unternehmen.\n1. Block\n\nCheck-In: Kl&auml\;rung der eigenen Ausgangssituation zum Beginn der Challenge.\nStart der Challenge:&nbsp\;&bdquo\;Wie k&ouml\;nnte sich Agilit&auml\;t unmittelbaren Einfluss auf die Erreichung unserer Unternehmensziele positiv auswirken?&ldquo\;\nUm die Anforderungen abzufragen\, werden Interviews in der Gruppe durchgef&uuml\;hrt (Methode: Empathize Interview). Dieses dient zur Kontextualisierung und Kl&auml\;rung der individuellen Bed&uuml\;rfnisse.\n\n\nVorbereitung des Interviews mittels Einstiegsfrage/Erlebnisfrage/Bed&uuml\;rfnisfrage. Wie werden durch die Teilnehmer im Rahmen der Challenge die Erwartungen an die Anforderung: &bdquo\;Agilit&auml\;t im Unternehmen&ldquo\; definiert?\n\n2. Block\n\nDurchf&uuml\;hrung des Interviews. Die Teilnehmer lernen\, die Bed&uuml\;rfnisse der Gruppenmitglieder wahrzunehmen und einzuordnen. Das daraus resultierende Filtern der Erkenntnisse und die Konkretisierung der Herausforderungen dient als n&auml\;chster Schritt der Definition eines Bed&uuml\;rfnisstatements\, das die zentrale Basis f&uuml\;r die Definition der Anforderung ist. \n\n3. Block\n\nEntwicklung eines Grundverst&auml\;ndnisses f&uuml\;r die Situation und die Bed&uuml\;rfnisse der Gruppe. Dies erm&ouml\;glicht die Definition der Ziele in der Gruppe und ein gemeinsames Arbeiten an Ideen bzw. Prototypen. (Methode: Ideate/Prototyping Idea Napkin).\nDie Gruppe entwickelt gemeinsam eine L&ouml\;sung f&uuml\;r die Thematik der Challenge. Es werden verschiedene Ideen und ein Prototyp entwickelt. Mit externem Feedback k&ouml\;nnen die Teilnehmer gleich in die n&auml\;chste Verbesserung bzw. Anpassung des Prototyps gehen (Methode: Testing/Feedback Grid).\n\n\nAuswertung/Verabschiedung\n\n\n&nbsp\;\nTEILNEHMERGEB&Uuml\;HR:\nBIOSAXONY Mitglieder: 600\,00 &euro\; (netto)\nNICHT-Mitglieder: 650\,00 &euro\; (netto)\nIn der Teilnahmegeb&uuml\;hr sind Seminarunterlagen\, Fingerfood\, Getr&auml\;nke und ein Mittagessen enthalten.\nNach Abschluss des Workshops erhalten die Teilnehmer ein Zertifikat.\n&nbsp\;\nTEILNAHMEBEDINGUNGEN:\nBitte nutzen Sie f&uuml\;r Ihre Anmeldung unsere hier verlinkte Online-Registrierung.Die Teilnehmerzahl f&uuml\;r die Veranstaltung ist auf max. 12 Teilnehmer begrenzt. Anmeldungen werden in der Reihenfolge ihres Eingangs ber&uuml\;cksichtigt.\nAnmeldefrist: 19.04.2023\nEine Stornierung der Anmeldung bleibt bis zum jeweiligen Anmeldeschluss kostenfrei. Bei einer Stornierung nach dem Anmeldeschluss werden 50% des Kurspreises f&auml\;llig. Bei unentschuldigtem Nichterscheinen ist der komplette Kurspreis f&auml\;llig.\nBitte beachten Sie die Veranstaltungs-AGB des biosaxony e. V.\n\n
LOCATION:BIO CITY LEIPZIG\, Deutscher Platz 5\, 04103 Leipzig
END:VEVENT
END:VCALENDAR
