BEGIN:VCALENDAR
VERSION:2.0
PRODID:-//YourOrganization//EventDownload//DE
CALSCALE:GREGORIAN
METHOD:PUBLISH
BEGIN:VEVENT
UID:69e4dd7c758fd@leapup.bitshifters.cloud
DTSTAMP:20260419T154948Z
DTSTART:20251107T080000Z
DTEND:20251107T181500Z
SUMMARY:Aktualisierungskurs: "Sicherheit in der Gentechnik" für Projektleiter/-in und Beauftragte für biologische Sicherheit
DESCRIPTION:Die Wissenschaftliche Weiterbildung bietet den Auffrischungskurs „Sicherheit in der Gentechnik – Biologische Sicherheit“ für Projektleiter:innen und Beauftragte für die biologische Sicherheit im Herbst an. Die digitale Fortbildungsveranstaltung ist dabei durch das Sächsische Staatsministerium für Umwelt und Landwirtschaft nach Paragraf 28 Absatz 5 der Gentechnik-Sicherheitsverordnung (GenTSV-neu) zertifiziert.\nAm 7. November 2025 findet der eintägige Auffrischungskurs statt. Im Rahmen der Fortbildung vermitteln Ihnen unsere Dozent:innen das erforderliche Fachwissen mit Impulsen aus der aktuellen Forschung und verknüpfen diese mit Beispielen aus der Praxis. Bei der Teilnahme am gesamten Kurstag wird eine Teilnahmebescheinigung ausgestellt\, die in allen Bundesländern gültig ist.\nVoraussetzungen zur Teilnahme an der Veranstaltung sind ein abgeschlossenes Studium der Biologie\, Chemie\, Medizin\, Tiermedizin oder als Ingenieur:in\, eingehende Kenntnisse in der allgemeinen Mikrobiologie sowie in klassischer und molekularer Genetik\, und praktische Erfahrung im Umgang mit Mikroorganismen. Die Teilnahmegebühr für den Auffrischungskurs beträgt 480\,00 Euro.\nAnmeldung ab sofort möglich.
LOCATION:Wissenschaftliche Weiterbildung\, Universität Leipzig\, Goethestraße 3–5\, 04109 Leipzig
END:VEVENT
END:VCALENDAR
