BEGIN:VCALENDAR
VERSION:2.0
PRODID:-//YourOrganization//EventDownload//DE
CALSCALE:GREGORIAN
METHOD:PUBLISH
BEGIN:VEVENT
UID:69e4cef42862a@leapup.bitshifters.cloud
DTSTAMP:20260419T144748Z
DTSTART:20240827T140000Z
DTEND:20240827T160000Z
SUMMARY:(Allogene) CAR-NK-Zellen: Vom Labor zum Krankenbett
DESCRIPTION:Teil III: Seminarreihe: Von der Target-Validierung zur klinischen Anwendung \nWir bei Miltenyi sehen uns nicht nur als Anbieter von Werkzeugen\, sondern haben auch eine starke Expertise in der Entwicklung von Zell- und Gentherapieprodukten. Mit unserer Seminarreihe möchten wir unsere Erfahrungen in der Entwicklung von zell- und gentherapeutischen Ansätzen weitergeben &ndash\; angefangen von der Targetvalidierung über den proof of principle im kleinen Maßstab bis hin zum klinischen Maßstab.\nFür Anmeldung\, Informationen und Fragen wenden Sie sich bitte an Caren Clark carenb@miltenyi.com\n&nbsp\;
LOCATION:Fraunhofer-Institut für Zelltherapie und Immunologie IZI\, Perlickstraße 1\, 04103 Leipzig (& MS Teams)
END:VEVENT
END:VCALENDAR
