BEGIN:VCALENDAR
VERSION:2.0
PRODID:-//YourOrganization//EventDownload//DE
CALSCALE:GREGORIAN
METHOD:PUBLISH
BEGIN:VEVENT
UID:69e69de8af9b6@leapup.bitshifters.cloud
DTSTAMP:20260420T234304Z
DTSTART:20150929T000000Z
DTEND:20150930T000000Z
SUMMARY:Anwenderseminar der GeSiM mbH am 29./30.09.2015
DESCRIPTION:Nach 20 Jahren Gesch&auml\;ftsbetrieb besteht Anlass zum gemeinsamen Feiern. Kunden der GeSiM mbH stellen Ihre Arbeit mit GeSiM Ger&auml\;ten vor und laden zur Diskussion ein. Alle Interessierten sind herzlich eingeladen. Die Teilnahme am wissenschaftlichen Programm ist kostenlos.Themenschwerpunkte:Microarraying/ Microdispensing Bereits vor der Jahrhundertwende geh&ouml\;rte der Nano-PlotterTM zu den ersten kommerziellen Non-contact Arrayern weltweit. Heute liegt der Einsatzschwerpunkt bei Entwicklung und Herstellung von Diagnostik.BioprintingSeit einigen Jahren arbeiten Wissenschaftler auf dem Gebiet der regenerativen Medizin daran\, Zellen in 3D-Strukturen zu z&uuml\;chten. Der neue BioScaffolder BS3.1 ist eine Option solche Strukturen additiv zu erstellen.Synthesizing (In Entwicklung)Mehr als ein neuer Pipettierroboter\, etabliert der Biosynthesizer eine neue Ger&auml\;tefamilie f&uuml\;r die kombinatorische Chemie\, Synthese- und Biochemie. Er kombiniert Standardkomponenten\, Bioreaktoren sowie eine Vielzahl von Probenhandlingtools.Der erste Repr&auml\;sentant ist mit dem MSRP 3.1.\, http://www.gesim.de/en/biosynthesizer/ ein Synthesizer f&uuml\;r die Radiochemie zur Herstellung radiopharmazeutischer Pr&auml\;parate f&uuml\;r PET-Scanner.Micro contact printing\, Nano-Imprint-Lithography (NIL)\, MicrofluidicsEbenfalls nagelneu: Die &ldquo\;Turnkey-Solution&rdquo\; f&uuml\;r Mikrofluidiker. Der neue Microcontact-Drucker &micro\;CP4.1 erlaubt per Knopfdruck die pr&auml\;gende Herstellung mikrofluidischer Strukturen. Dar&uuml\;berhinaus lernen Sie Anwendungen unserer Mikroskopierzellen sowie anderer mikrofluidischer Bauteile kennen.\nVeranstaltungsort:HZDR\, Gro&szlig\;er H&ouml\;rsaalBautzner Landstr. 40001328 Dresden\nProgramm (pdf)\nMehr Informationen:GeSiM mbHMarketingPhone: 0049-351-2695-322Email: info@gesim.de
END:VEVENT
END:VCALENDAR
