BEGIN:VCALENDAR
VERSION:2.0
PRODID:-//YourOrganization//EventDownload//DE
CALSCALE:GREGORIAN
METHOD:PUBLISH
BEGIN:VEVENT
UID:69e4f87bb1e70@leapup.bitshifters.cloud
DTSTAMP:20260419T174459Z
DTSTART:20250127T110000Z
DTEND:20250130T170000Z
SUMMARY:ARABISCHE GESUNDHEIT
DESCRIPTION:Die Arab Health 2025\, die führende Gesundheitsmesse im Nahen Osten\, wird vom 27. bis 30. Januar 2025 im Dubai World Trade Center stattfinden. Sie feiert ihr 50-jähriges Bestehen und erwartet über 60.000 Fachbesucher und 3.800 Aussteller aus mehr als 70 Ländern.\nDie Veranstaltung bietet:\n\nInnovationsbereiche zu wichtigen Themen des Gesundheitswesens.\nZwölf Fachkonferenzen\, unter anderem zu Radiologie\, Chirurgie und Patientensicherheit.\nNetzwerkplattformen\, um Kontakte zu knüpfen und Partnerschaften zu bilden.\n\nFrühbucherrabatte sind bis zum 9. Dezember 2024 erhältlich.\nJetzt anmelden!
LOCATION:Dubai World Trade Centre\, Sheikh Zayed Rd Trade Centre 2 \, Dubai
END:VEVENT
END:VCALENDAR
