BEGIN:VCALENDAR
VERSION:2.0
PRODID:-//YourOrganization//EventDownload//DE
CALSCALE:GREGORIAN
METHOD:PUBLISH
BEGIN:VEVENT
UID:69e5b79cf1d73@leapup.bitshifters.cloud
DTSTAMP:20260420T072028Z
DTSTART:20210512T100000Z
DTEND:20210512T120000Z
SUMMARY:Arbeitsrecht und Arbeitsschutz: Corona-Update 2021
DESCRIPTION:Abstandspflicht\, Maskenpflicht\, Testpflicht\, Impfpflicht. F&uuml\;r viele Unternehmen ergeben sich w&auml\;hrend der Corona-Pandemie viele Fragen zum Arbeitsrecht und dem Arbeitsschutz. In diesem Online-Seminar erhalten Sie einen tagesaktuellen &Uuml\;berblick zu den Arbeitgeberpflichten und arbeitsrechtlichen Fragestellungen rund um die COVID-19-Pandemie.\nDie Teilnahme ist kostenfrei.\nHier geht es zur Anmeldung
END:VEVENT
END:VCALENDAR
