BEGIN:VCALENDAR
VERSION:2.0
PRODID:-//YourOrganization//EventDownload//DE
CALSCALE:GREGORIAN
METHOD:PUBLISH
BEGIN:VEVENT
UID:69e591d26302f@leapup.bitshifters.cloud
DTSTAMP:20260420T043914Z
DTSTART:20220329T080000Z
DTEND:20220330T160000Z
SUMMARY:Arbeitsschutz im Labor
DESCRIPTION:\n\nWeiterbildungskurs zur Anwendung der TRGS 526 Laboratorien mit praktischer &Uuml\;bung zur Erstellung von Gef&auml\;hrdungsbeurteilungen\n\n\n\n\nArbeiten Sie in einem Labor? Haben Sie Personalverantwortung im Laborbereich? Leiten Sie ein Labor? Sprich\, haben Sie Verantwortung im Arbeitsschutz?\nDer Weiterbildungskurs &bdquo\;Arbeitsschutz im Labor&ldquo\; unterst&uuml\;tzt Sie bei der Umsetzung der n&ouml\;tigen Ma&szlig\;nahmen des Arbeitsschutzes im Labor. Wir\n\nbieten eine&nbsp\;&Uuml\;bersicht &uuml\;ber Arbeitsschutzthemen im Labor\,\nbeantworten Ihre Fragen&nbsp\;rund um den Arbeitsschutz im Labor\,\ngeben&nbsp\;Tipps zur Organisation von Arbeitsschutzma&szlig\;nahmen\,\nhelfen Ihnen&nbsp\;L&ouml\;sungen f&uuml\;r Ihre konkreten Herausforderungen beim Arbeitsschutz&nbsp\;zu finden.\n&uuml\;ben mit Ihnen zusammen die&nbsp\;Erstellung einer Gef&auml\;hrdungsbeurteilung.\n\nBasis f&uuml\;r diesen Kurs bilden die&nbsp\;TRGS 526&nbsp\;(Technische Regeln f&uuml\;r Gefahrstoffe: Laboratorien) und die&nbsp\;DGUV Information 213-850&nbsp\;(Information der Deutschen Gesetzlichen Unfallversicherung: Sicheres Arbeiten in Laboratorien - Grundlagen und Handlungshilfen).\n&nbsp\;\nThemen\n\n\nVerantwortung und Pflichten der Akteure im Arbeitsschutz\nTechnische Schutzma&szlig\;nahmen im Labor (Arbeitsplatzgestaltung\, Flucht- und Rettungswege\, L&uuml\;ftung\, Brandschutz&hellip\;.)\nUmgang mit Gefahrstoffen (Gef&auml\;hrdungsbeurteilung\, Substitutsionspr&uuml\;fung)\nBiostoffe bewerten\, Ma&szlig\;nahmen des Infektionsschutzes ergreifen\nOrganisation von arbeitsmedizinischen Vorsorgen\, Erste Hilfe\nSicherer Betrieb und Pr&uuml\;fpflichten von Apparaturen Ger&auml\;ten (von A wie Abzug bis Z wie Zentrifuge)\nBetriebsanweisungen erstellen und Unterweisungen durchf&uuml\;hren\n\n&nbsp\;\nTeilnahmegeb&uuml\;hr\n\ninkl. Kursunterlagen und Teilnahmezertifikat\n\n\n\n875\,-- &euro\;\n&nbsp\;\n\n\n860\,-- &euro\;\n\npers&ouml\;nliche DECHEMA-Mitglieder\n\n\n\n\n&nbsp\;\nAnmeldung: https://dechema-dfi.de/-p-161194.html&nbsp\;\n\n\n\n
LOCATION:Online
END:VEVENT
END:VCALENDAR
