BEGIN:VCALENDAR
VERSION:2.0
PRODID:-//YourOrganization//EventDownload//DE
CALSCALE:GREGORIAN
METHOD:PUBLISH
BEGIN:VEVENT
UID:69e973ca1975f@leapup.bitshifters.cloud
DTSTAMP:20260423T032010Z
DTSTART:20140407T000000Z
DTEND:20140407T000000Z
SUMMARY:Auftakt der 13. Industrietage an der HTW Dresden
DESCRIPTION:Die Auftaktveranstaltung zu den 13. Industrietagen (27.- 31. Mai 2014) findet am 7. April statt und wendet sich speziell an Hochschullehrer und&nbsp\; Professoren\, die\, animiert durch die Veransta&shy\;ltung\, zusammen mit ihren Studierenden an den Dresdner Industrietagen teilnehmen werden.
END:VEVENT
END:VCALENDAR
