BEGIN:VCALENDAR
VERSION:2.0
PRODID:-//YourOrganization//EventDownload//DE
CALSCALE:GREGORIAN
METHOD:PUBLISH
BEGIN:VEVENT
UID:69e4cf054f9f2@leapup.bitshifters.cloud
DTSTAMP:20260419T144805Z
DTSTART:20240828T090000Z
DTEND:20240828T234500Z
SUMMARY:BARCAMP HEALTHTECH & AI 2024: Das Barcamp rund um die aktuellen Hot Topics in Digital Health
DESCRIPTION:Ob digitale L&ouml\;sungen gegen den Personalmangel\, Status Quo und Umsetzung von ePA\, E-REZEPT\, TIM &amp\; Co.\, Umsetzung des KHZG\, freiwillige oder unfreiwillige Systemwechsel\, Automatisierung von Verwaltungs- und Abrechnungsprozessen oder Use Cases f&uuml\;r modulare KI-Services in der Gesundheitswirtschaft.\nEs wird eine B&uuml\;hne f&uuml\;r dein Digital Health-Herzensthema geschaffen &ndash\; beim ersten Barcamp HealthTech &amp\; AI 2024!\nDas Format Barcamp steht im Kontrast zu herk&ouml\;mmlichen Veranstaltungsformaten und r&uuml\;ckt den sonst in einer Nebenrolle stattfindenden\, informellen und freien Austausch gleichgesinnter Personen in den Fokus.&nbsp\; Die Teilnehmenden werden dabei zu Teilgebenden und bestimmen zu Beginn der Veranstaltung die im Mittelpunkt stehenden Themen\, Arbeitskreise\, Methoden und Ziele selbst. Der intensive Austausch\, das Entwickeln neuer Ideen und Projektans&auml\;tze sowie das Netzwerken finden dabei stets auf Augenh&ouml\;he statt &ndash\; ohne Hierarchien oder festgetretene Alltagsmuster.\n\n\nEs sind alle Interessent:innen herzlich eingeladen\, live vor Ort in Leipzig dabei zu sein!\n\n\nErfahrt hier mehr &uuml\;ber die Veranstaltung oder meldet euch direkt &uuml\;ber diesen Link an!\nDie Teilnahmepl&auml\;tze sind vor Ort begrenzt auf 100 Personen.
LOCATION:SimpliOffice Eventspace Leipzig\, Markgrafenstraße 2\, 04109 Leipzig-Zentrum
END:VEVENT
END:VCALENDAR
