BEGIN:VCALENDAR
VERSION:2.0
PRODID:-//YourOrganization//EventDownload//DE
CALSCALE:GREGORIAN
METHOD:PUBLISH
BEGIN:VEVENT
UID:69e52a10d293b@leapup.bitshifters.cloud
DTSTAMP:20260419T211632Z
DTSTART:20241104T000000Z
DTEND:20241106T000000Z
SUMMARY:BIO-Europe 2024 in Stockholm
DESCRIPTION:Die 30 jährliche BIO-Europe findet in Stockholm\, Schweden\, statt und wird mehr als 5.500 Fachleute aus dem Bereich der Biowissenschaften versammeln\, die mehr als 2.800 Unternehmen aus über 60 Ländern vertreten. Die Teilnehmer werden im Laufe der Veranstaltung an 29.000 Einzelgesprächen teilnehmen.In den letzten 30 Jahren hat sich die BIO-Europe zu Europas wichtigstem Partnering-Event entwickelt. Ihre internationale Reichweite macht sie zu einem einzigartigen Angebot\, bei dem Teilnehmer aus allen Bereichen der biotechnologischen Wertschöpfungskette zusammenkommen\, um auf effiziente Weise strategische Beziehungen zu identifizieren\, einzugehen und zu knüpfen\, die ihre Unternehmen erfolgreich voranbringen.\nSichern Sie sich Ihr Ticket zum Frühbucherpreis bis zum 26. Juli 2024!\nFür die BIO-Europe 2024 erhalten biosaxony-Mitglieder einen 15% Rabatt (Ausnahme: Young Company Offer). Der VIP-Code BEU24biosaxony15&nbsp\;muss bei der Anmeldung angegeben werden\, eine rückwirkende Verrechnung ist leider nicht möglich.\nJetzt anmelden!\n&nbsp\;
LOCATION:Kista Mässan\, Kistagången 1\, 16440 Stockholm / Kista
END:VEVENT
END:VCALENDAR
