BEGIN:VCALENDAR
VERSION:2.0
PRODID:-//YourOrganization//EventDownload//DE
CALSCALE:GREGORIAN
METHOD:PUBLISH
BEGIN:VEVENT
UID:69e4c86a31d6a@leapup.bitshifters.cloud
DTSTAMP:20260419T141954Z
DTSTART:20250317T000000Z
DTEND:20250319T000000Z
SUMMARY:BIO-Europe Frühling
DESCRIPTION:Die BIO-Europe Spring 2025 findet vom 17. bis 19. März 2025 in Mailand\, Italien\, statt\, mit digitalen Partnertagen am 25. und 26. März. Sie ist eine der führenden Partnering-Konferenzen für die Biotech-Branche mit über 3.700 Teilnehmern aus den Bereichen Biotech\, Pharma und Finanzen.\nHighlights:\n\nPartnering: Individuelle Treffen über die PartneringONE&trade\; Plattform.\nProgramm: Expertenvorträge zu Trends und Innovationen.\nPräsentationen: Firmen- und Startup-Präsentationen.\nNetworking: Abendempfänge und Wellnessangebote.\n\nJetzt anmelden!
LOCATION:Allianz MiCo – Milano Convention Centre\, Piazzale Carlo Magno\, 1/Gate 16\, 20149 Milano MI
END:VEVENT
END:VCALENDAR
