BEGIN:VCALENDAR
VERSION:2.0
PRODID:-//YourOrganization//EventDownload//DE
CALSCALE:GREGORIAN
METHOD:PUBLISH
BEGIN:VEVENT
UID:69e9501c94c97@leapup.bitshifters.cloud
DTSTAMP:20260423T004756Z
DTSTART:20150506T170000Z
DTEND:20150506T200000Z
SUMMARY:Biologische Arzneimittel nach Patentablauf
DESCRIPTION:Der Verein zur F&ouml\;rderung der Gesundheitswirtschaft in der Region Leipzig e. V. l&auml\;dt Sie herzlich ein zum Gespr&auml\;ch!Biologische Arzneimittel nach Patentablauf:-&nbsp\; Einsparung oder Mengenausweitung?-&nbsp\; Auswirkungen auf die Patientenversorgung&nbsp\;&nbsp\;06. Mai 2015 von 17.00 bis 20.00 UhrBIO CITY LEIPZIGDeutscher Platz 5\, 04103 Leipzig&nbsp\;Die Entwicklung in der Herstellung von Medikamenten schreitet rasant voran. Biopharmazeutika haben in den letzten Jahren in vielen Therapiegebieten f&uuml\;r medizinische Durchbr&uuml\;che gesorgt. In naher Zukunft l&auml\;uft der Patentschutz vieler Biologika ab. Wir m&ouml\;chten &uuml\;ber die neue Marktsituation mit Experten sprechen und die Diskussion &uuml\;ber Nutzen oder Risiken f&uuml\;r die Patienten&nbsp\; f&uuml\;hren. &nbsp\;&nbsp\;Wird sich die Argumentation vornehmlich um die Kosten f&uuml\;r das Gesundheitswesen drehen?Was z&auml\;hlt in Zukunft in der deutschen Gesundheitsversorgung und wie wirkt sich die Einf&uuml\;hrung auf die Beteiligten aus? Diskutieren Sie mit anerkannten Fachleuten &uuml\;ber die verschiedenen Sichtweisen und die m&ouml\;glichen Auswirkungen auf die k&uuml\;nftige Patientenversorgung: &nbsp\;Zur Programmeinsicht und zum Bestellen Ihres kostenfreien Tickets klicken Sie bitte hier. Wir freuen uns auf Sie.
END:VEVENT
END:VCALENDAR
