BEGIN:VCALENDAR
VERSION:2.0
PRODID:-//YourOrganization//EventDownload//DE
CALSCALE:GREGORIAN
METHOD:PUBLISH
BEGIN:VEVENT
UID:69e501f5cc182@leapup.bitshifters.cloud
DTSTAMP:20260419T182525Z
DTSTART:20240807T150000Z
DTEND:20240807T170000Z
SUMMARY:Biolumineszente Reporter-Assays für zelluläre Reaktionen und Stoffwechsel
DESCRIPTION:Dieses Seminar bietet einen detaillierten Überblick über die modernsten Nachweismethoden\, die für die Bewertung der Lebensfähigkeit\, Zytotoxizität und Apoptose von Zellen entscheidend sind. Außerdem werden Sie innovative Biolumineszenz-Assays zum Nachweis wichtiger zellulärer Metaboliten kennenlernen.\nDieses Seminar wird von Dr. Erik Bonke\, Sr Scientific Application Specialist Cellular Reporters bei der Promega GmbH\, gehalten und behandelt folgende Themenschwerpunkte:\n\nZellviabilität: Besprechung der Vor- und Nachteile von Viabilitätsmarkern\, um den besten für Ihre Forschungsanforderungen auszuwählen.\nZytotoxizität: Hebt häufige Hürden bei Zytotoxizitätstests hervor und stellt Techniken zur Verbesserung der Datenkonsistenz vor.\nApoptose: Untersucht Assays und Strategien für die eingehende Untersuchung des programmierten Zelltods und zeigt\, wie sie zum Verständnis zellulärer Reaktionen beitragen\nZellulärer Metabolismus: Konzentriert sich auf das Kernprinzip der biolumineszenten Assays von Promega und deren breite Forschungsanwendungen.\n\nWir heißen alle interessierten Wissenschaftler\, technischen Assistenten und Studenten zu diesem kostenlosen Seminar herzlich willkommen!Neben dem interessanten Vortrag wird es genügend Zeit geben\, um Ihre Fragen zu beantworten und um Kontakte zu knüpfen.\nAnmeldung hier!
LOCATION:BIO CITY Leipzig | Atrium (ground floor)\, Conference room 2\, Deutscher Platz 5\, 04103 Leipzig
END:VEVENT
END:VCALENDAR
