BEGIN:VCALENDAR
VERSION:2.0
PRODID:-//YourOrganization//EventDownload//DE
CALSCALE:GREGORIAN
METHOD:PUBLISH
BEGIN:VEVENT
UID:69e56656d8599@leapup.bitshifters.cloud
DTSTAMP:20260420T013342Z
DTSTART:20230214T140000Z
DTEND:20230214T173000Z
SUMMARY:BioM Seminar: Das neue europäische Patentsystem
DESCRIPTION:\n\n\n\n\n\n\n\n\n\n\nUnsere Referenten werden Ihnen die Kernelemente des neuen Patentsystems\, das sog. Einheitspatent und das Einheitliche Patentgericht\, vorstellen. Dabei werden Ihnen die Chancen\, die das neue System f&uuml\;r den Patentschutz und die Durchsetzung von Patenten bietet\, ebenso erl&auml\;utert\, wie m&ouml\;gliche Risiken. Die Referenten werden Sie auch auf strategisch wichtige Weichenstellungen hinweisen und Ihnen erl&auml\;utern\, welche Entscheidungen Sie in Bezug auf Ihre bestehenden Patente\, Patentanmeldungen und Lizenzvertr&auml\;ge treffen sollten.&nbsp\;\nTeilnahmegeb&uuml\;hr: 80 Euro (+ MwSt) f&uuml\;r Akademie\, 130 Euro (+ MwSt) f&uuml\;r Industrie\nJetzt anmelden!\n\n\n\n\n\n\n\n\n\n\n
LOCATION:BioM Biotech Cluster Development GmbH\, Am Klopferspitz 19 a (IZB West II\, Seminarraum 3. OG)\, 82152 Martinsried
END:VEVENT
END:VCALENDAR
